BEGIN:VCALENDAR
VERSION:2.0
PRODID:-//DoingWell At MIT - ECPv6.15.20//NONSGML v1.0//EN
CALSCALE:GREGORIAN
METHOD:PUBLISH
X-WR-CALNAME:DoingWell At MIT
X-ORIGINAL-URL:https://doingwell.mit.edu
X-WR-CALDESC:Events for DoingWell At MIT
REFRESH-INTERVAL;VALUE=DURATION:PT1H
X-Robots-Tag:noindex
X-PUBLISHED-TTL:PT1H
BEGIN:VTIMEZONE
TZID:America/New_York
BEGIN:DAYLIGHT
TZOFFSETFROM:-0500
TZOFFSETTO:-0400
TZNAME:EDT
DTSTART:20210314T070000
END:DAYLIGHT
BEGIN:STANDARD
TZOFFSETFROM:-0400
TZOFFSETTO:-0500
TZNAME:EST
DTSTART:20211107T060000
END:STANDARD
BEGIN:DAYLIGHT
TZOFFSETFROM:-0500
TZOFFSETTO:-0400
TZNAME:EDT
DTSTART:20220313T070000
END:DAYLIGHT
BEGIN:STANDARD
TZOFFSETFROM:-0400
TZOFFSETTO:-0500
TZNAME:EST
DTSTART:20221106T060000
END:STANDARD
BEGIN:DAYLIGHT
TZOFFSETFROM:-0500
TZOFFSETTO:-0400
TZNAME:EDT
DTSTART:20230312T070000
END:DAYLIGHT
BEGIN:STANDARD
TZOFFSETFROM:-0400
TZOFFSETTO:-0500
TZNAME:EST
DTSTART:20231105T060000
END:STANDARD
END:VTIMEZONE
BEGIN:VEVENT
DTSTART;TZID=America/New_York:20220423T090000
DTEND;TZID=America/New_York:20220423T123000
DTSTAMP:20260421T141158
CREATED:20220420T170816Z
LAST-MODIFIED:20220420T170818Z
UID:10003365-1650704400-1650717000@doingwell.mit.edu
SUMMARY:The Food Project tour
DESCRIPTION:Celebrate Earth Week with a unique opportunity to experience food justice in action. Join MITOS Senior Sustainability Project Manager Susy Jones on a tour of The Food Project in Dorchester on Saturday\, April 23. You will travel with fellow MIT community members to tour their growing spaces\, meet farmers and youth participants\, and get your hands into the soil for a farming activity. Tours will leave at 9:00 AM at the MIT Front Steps\, 77 Mass Ave shuttle stop\, and return to campus by 12:30 PM. \nUse this google form to sign up and get more details.  \nVisit The Food Project to find out more about the organization. 
URL:https://doingwell.mit.edu/event/the-food-project-tour/
LOCATION:The Food Project\, 11 Brook Ave\, Boston\, MA\, 02119\, United States
ATTACH;FMTTYPE=image/png:https://doingwell.mit.edu/wp-content/uploads/2022/04/Screen-Shot-2022-04-20-at-12.58.42-PM.png
END:VEVENT
BEGIN:VEVENT
DTSTART;TZID=America/New_York:20220422T100000
DTEND;TZID=America/New_York:20220422T110000
DTSTAMP:20260421T141158
CREATED:20220420T170436Z
LAST-MODIFIED:20220420T170557Z
UID:10003363-1650621600-1650625200@doingwell.mit.edu
SUMMARY:Urban Farming and Food Justice Panel
DESCRIPTION:Join Susy Jones on Friday\, April 22\, 2022 for a presentation and discussion of the local environmental and social impacts of urban farming/gardening projects underway in Mansfield\, Ohio and Boston\, Massachusetts. Featuring our community partners from Richland Gro-Op (Mansfield) and GreenRoots (Boston). \nThe session is from 10:00-11:00 at The Nexus\, MIT Hayden Library\, with speakers from Chelsea\, MA\, and Ohio. Register now.  \nGrowFourth Urban Farm is an urban homestead farm\, and is part of the farmers cooperative\, Richland Gro-Op in Mansfield\, Ohio.
URL:https://doingwell.mit.edu/event/urban-farming-and-food-justice-panel/
LOCATION:The Nexus at MIT Hayden Library\, 160 Memorial St\, Cambridge\, MA\, 02142\, United States
ATTACH;FMTTYPE=image/jpeg:https://doingwell.mit.edu/wp-content/uploads/2022/04/https___cdn.evbuc_.com_images_251723199_463981848871_1_original.jpeg
END:VEVENT
END:VCALENDAR