BEGIN:VCALENDAR
VERSION:2.0
PRODID:-//DoingWell At MIT - ECPv6.15.20//NONSGML v1.0//EN
CALSCALE:GREGORIAN
METHOD:PUBLISH
X-WR-CALNAME:DoingWell At MIT
X-ORIGINAL-URL:https://doingwell.mit.edu
X-WR-CALDESC:Events for DoingWell At MIT
REFRESH-INTERVAL;VALUE=DURATION:PT1H
X-Robots-Tag:noindex
X-PUBLISHED-TTL:PT1H
BEGIN:VTIMEZONE
TZID:America/New_York
BEGIN:DAYLIGHT
TZOFFSETFROM:-0500
TZOFFSETTO:-0400
TZNAME:EDT
DTSTART:20230312T070000
END:DAYLIGHT
BEGIN:STANDARD
TZOFFSETFROM:-0400
TZOFFSETTO:-0500
TZNAME:EST
DTSTART:20231105T060000
END:STANDARD
BEGIN:DAYLIGHT
TZOFFSETFROM:-0500
TZOFFSETTO:-0400
TZNAME:EDT
DTSTART:20240310T070000
END:DAYLIGHT
BEGIN:STANDARD
TZOFFSETFROM:-0400
TZOFFSETTO:-0500
TZNAME:EST
DTSTART:20241103T060000
END:STANDARD
BEGIN:DAYLIGHT
TZOFFSETFROM:-0500
TZOFFSETTO:-0400
TZNAME:EDT
DTSTART:20250309T070000
END:DAYLIGHT
BEGIN:STANDARD
TZOFFSETFROM:-0400
TZOFFSETTO:-0500
TZNAME:EST
DTSTART:20251102T060000
END:STANDARD
END:VTIMEZONE
BEGIN:VEVENT
DTSTART;TZID=America/New_York:20241111T153000
DTEND;TZID=America/New_York:20241111T163000
DTSTAMP:20260425T113039
CREATED:20240919T144942Z
LAST-MODIFIED:20240919T144947Z
UID:10003874-1731339000-1731342600@doingwell.mit.edu
SUMMARY:Tomorrow Time
DESCRIPTION:Do you struggle to get started on tasks? Does it feel like you have a lot to do and there isn’t enough time to do it all? Are you looking to work alongside others who might be experiencing the same thing? \nStudent Support Services is here to help! Join us for Tomorrow Time; an S3 sponsored weekly event offering a friendly space to get tasks started! Come to Tomorrow Time to accomplish a task (or tasks)\, set a goal for yourself\, and motivate each other to get things done!  \nTomorrow Time will be held in 5-102\, the Conference Room in S3. We will be hosting Tomorrow Time on Mondays from 3:30-4:30\, Starting on September 9th.
URL:https://doingwell.mit.edu/event/tomorrow-time-2/2024-11-11/
LOCATION:5-102\, 77 Massachusetts Ave\, Cambridge\, Massachusetts\, 02139
ATTACH;FMTTYPE=image/jpeg:https://doingwell.mit.edu/wp-content/uploads/2024/09/Tomorrow-Time-2024-e1726757315950.jpg
ORGANIZER;CN="Student Support Services (S3)":MAILTO:s3-support@mit.edu
END:VEVENT
BEGIN:VEVENT
DTSTART;TZID=America/New_York:20241113T160000
DTEND;TZID=America/New_York:20241113T170000
DTSTAMP:20260425T113039
CREATED:20240209T200438Z
LAST-MODIFIED:20240209T200441Z
UID:10003301-1731513600-1731517200@doingwell.mit.edu
SUMMARY:Launch Your Wellness Tours
DESCRIPTION:Are you ready to “blast off” into the new year? Let us help you Launch Your Wellness! This year we’re hosting not one\, but two tours per month. On the second Wednesday of each month starting on January 10th\, we’ll be showcasing the Zesiger Center. On the Third Wednesday of each month\, we’ll shift the information sessions and tour across campus to Alumni/Wang. But wait\, there’s more! The Alumni tour will include the opportunity to sign up for a special Community Cycle Class (space limited to first come\, first serve)! \nIt’s time to Launch your Wellness\, MIT! What better time than right now?
URL:https://doingwell.mit.edu/event/launch-your-wellness-tours/2024-11-13/
LOCATION:Alumni Wang Fitness Center\, Zesiger Sports & Athletic Complex\, 120 Vassar St\, Cambridge\, Massachusetts\, 02139
ATTACH;FMTTYPE=image/png:https://doingwell.mit.edu/wp-content/uploads/2024/02/MicrosoftTeams-image-73.png
ORGANIZER;CN="MIT Recreation":MAILTO:Rothbart@mit.edu
END:VEVENT
BEGIN:VEVENT
DTSTART;TZID=America/New_York:20241116T190000
DTEND;TZID=America/New_York:20241116T210000
DTSTAMP:20260425T113039
CREATED:20241022T174848Z
LAST-MODIFIED:20241022T174854Z
UID:10003885-1731783600-1731790800@doingwell.mit.edu
SUMMARY:What's So Funny?" A Disability Comedy Extravaganza!
DESCRIPTION:With the support of the De Florez Fund for Humor\, we promise an evening full of humor that will leave you laughing\, thinking\, and celebrating the incredible talents within our community.\n \nThis special event is hosted in collaboration with Disabled@MIT\, the ASL & Deaf Culture Club\, LGBTQ+ ERG\, LGBTQ+ Services\, MIT Health\, MIT Sloan DEI\, SHASS\, and the MIT Media Lab. It’s a campus-wide celebration of comedy\, inclusion\, and community\, open to members of the MIT community and their guests.\n \nPerformers include:\n \nTina Friml – A sharp-witted New York comedian whose style has earned her spots on Comedy Central and The Tonight Show with Jimmy Fallon.\nPavar Snipe – A fearless comedian\, writer\, and actress who smashes stereotypes with humor.\nDeafies in Drag – A sensational Latinx Deaf Drag Duo mixing American Sign Language\, comedy\, and drag for a performance you won’t forget!
URL:https://doingwell.mit.edu/event/whats-so-funny-a-disability-comedy-extravaganza/
LOCATION:Little Kresge\, 48 Massachusetts Avenue
ATTACH;FMTTYPE=image/png:https://doingwell.mit.edu/wp-content/uploads/2024/10/Queer-Comedy-show-2024-1.png
END:VEVENT
END:VCALENDAR