BEGIN:VCALENDAR
VERSION:2.0
PRODID:-//DoingWell At MIT - ECPv6.15.20//NONSGML v1.0//EN
CALSCALE:GREGORIAN
METHOD:PUBLISH
X-WR-CALNAME:DoingWell At MIT
X-ORIGINAL-URL:https://doingwell.mit.edu
X-WR-CALDESC:Events for DoingWell At MIT
REFRESH-INTERVAL;VALUE=DURATION:PT1H
X-Robots-Tag:noindex
X-PUBLISHED-TTL:PT1H
BEGIN:VTIMEZONE
TZID:America/New_York
BEGIN:DAYLIGHT
TZOFFSETFROM:-0500
TZOFFSETTO:-0400
TZNAME:EDT
DTSTART:20240310T070000
END:DAYLIGHT
BEGIN:STANDARD
TZOFFSETFROM:-0400
TZOFFSETTO:-0500
TZNAME:EST
DTSTART:20241103T060000
END:STANDARD
BEGIN:DAYLIGHT
TZOFFSETFROM:-0500
TZOFFSETTO:-0400
TZNAME:EDT
DTSTART:20250309T070000
END:DAYLIGHT
BEGIN:STANDARD
TZOFFSETFROM:-0400
TZOFFSETTO:-0500
TZNAME:EST
DTSTART:20251102T060000
END:STANDARD
BEGIN:DAYLIGHT
TZOFFSETFROM:-0500
TZOFFSETTO:-0400
TZNAME:EDT
DTSTART:20260308T070000
END:DAYLIGHT
BEGIN:STANDARD
TZOFFSETFROM:-0400
TZOFFSETTO:-0500
TZNAME:EST
DTSTART:20261101T060000
END:STANDARD
END:VTIMEZONE
BEGIN:VEVENT
DTSTART;TZID=America/New_York:20250210T170000
DTEND;TZID=America/New_York:20250210T190000
DTSTAMP:20260422T073326
CREATED:20250206T151722Z
LAST-MODIFIED:20250206T151725Z
UID:10004661-1739206800-1739214000@doingwell.mit.edu
SUMMARY:Heat South Asia Photo Exhibition a public lecture by Bhumika Saraswati
DESCRIPTION:Bhumika Saraswati is an award-winning Indian journalist\, filmmaker\, and educator documenting overlooked narratives on gender\, caste\, climate\, and health. Raised in a Dalit household\, her work is deeply personal and globally resonant. She has earned international recognition\, including the UN-Laadli Media Award and Human Rights Press Award. Bhumika founded Kranti Collective\, a community space in New Delhi\, and leads Unequal Heat\, a project exploring the disproportionate impact of rising temperatures on marginalized communities. Sponsored by CMSW\, DUSP MIT\, History at MIT\, MIT Anthropology\, MIT Climate Project\, MIT India\, MIT Philosophy\, Program in Media and Arts & Sciences\, Women and Gender Services\, and Women and Gender Studies
URL:https://doingwell.mit.edu/event/heat-south-asia-photo-exhibition-a-public-lecture-by-bhumika-saraswati/
LOCATION:Massachusetts
ATTACH;FMTTYPE=image/png:https://doingwell.mit.edu/wp-content/uploads/2025/02/5-e1738854945732.png
ORGANIZER;CN="Women and Gender Services":MAILTO:wxgs@mit.edu
END:VEVENT
BEGIN:VEVENT
DTSTART;TZID=America/New_York:20250212T160000
DTEND;TZID=America/New_York:20250212T170000
DTSTAMP:20260422T073326
CREATED:20240209T200438Z
LAST-MODIFIED:20240209T200441Z
UID:10003304-1739376000-1739379600@doingwell.mit.edu
SUMMARY:Launch Your Wellness Tours
DESCRIPTION:Are you ready to “blast off” into the new year? Let us help you Launch Your Wellness! This year we’re hosting not one\, but two tours per month. On the second Wednesday of each month starting on January 10th\, we’ll be showcasing the Zesiger Center. On the Third Wednesday of each month\, we’ll shift the information sessions and tour across campus to Alumni/Wang. But wait\, there’s more! The Alumni tour will include the opportunity to sign up for a special Community Cycle Class (space limited to first come\, first serve)! \nIt’s time to Launch your Wellness\, MIT! What better time than right now?
URL:https://doingwell.mit.edu/event/launch-your-wellness-tours/2025-02-12/
LOCATION:Alumni Wang Fitness Center\, Zesiger Sports & Athletic Complex\, 120 Vassar St\, Cambridge\, Massachusetts\, 02139
ATTACH;FMTTYPE=image/png:https://doingwell.mit.edu/wp-content/uploads/2024/02/MicrosoftTeams-image-73.png
ORGANIZER;CN="MIT Recreation":MAILTO:Rothbart@mit.edu
END:VEVENT
BEGIN:VEVENT
DTSTART;TZID=America/New_York:20250212T180000
DTEND;TZID=America/New_York:20250212T200000
DTSTAMP:20260422T073326
CREATED:20250206T152721Z
LAST-MODIFIED:20250206T152724Z
UID:10004662-1739383200-1739390400@doingwell.mit.edu
SUMMARY:Gender\, Caste\, and Climate Crisis focusing on the Global South (Lecture) with Professor Michel Degraff
DESCRIPTION:Bhumika Saraswati is an award-winning Indian journalist\, filmmaker\, and educator documenting overlooked narratives on gender\, caste\, climate\, and health. Raised in a Dalit household\, her work is deeply personal and globally resonant. She has earned international recognition\, including the UN-Laadli Media Award and Human Rights Press Award. Bhumika founded Kranti Collective\, a community space in New Delhi\, and leads Unequal Heat\, a project exploring the disproportionate impact of rising temperatures on marginalized communities. Sponsored by CMSW\, DUSP MIT\, History at MIT\, MIT Anthropology\, MIT Climate Project\, MIT India\, MIT Philosophy\, Program in Media and Arts & Sciences\, Women and Gender Services\, and Women and Gender Studies \n2.12.25 at 6pm in E15-070
URL:https://doingwell.mit.edu/event/gender-caste-and-climate-crisis-focusing-on-the-global-south-lecture-with-professor-michel-degraff/
LOCATION:MIT Media Lab E15-070
ATTACH;FMTTYPE=image/png:https://doingwell.mit.edu/wp-content/uploads/2025/02/4-e1738855550910.png
ORGANIZER;CN="Women and Gender Services":MAILTO:wxgs@mit.edu
END:VEVENT
BEGIN:VEVENT
DTSTART;TZID=America/New_York:20250213T120000
DTEND;TZID=America/New_York:20250213T133000
DTSTAMP:20260422T073326
CREATED:20250130T201215Z
LAST-MODIFIED:20250212T164942Z
UID:10004651-1739448000-1739453400@doingwell.mit.edu
SUMMARY:WXGS Galentine’s/Palentine’s Craft Party
DESCRIPTION:Celebrate Galentine’s/Palentine’s Day with Women & Gender Services (WXGS)! We’ll be crafting tissue paper flowers and making customized chocolates (you’ll melt your choice of chocolate type into a mold and add toppings like M&Ms\, sprinkles\, or pretzels). We will have gluten-free\, vegan\, and nut-free options available. Open to all!
URL:https://doingwell.mit.edu/event/wxgs-galentines-palentines-craft-party/
LOCATION:3-308
ATTACH;FMTTYPE=image/png:https://doingwell.mit.edu/wp-content/uploads/2025/01/WXGS-GalentinesPalentines-Day-Craft-Party-e1738267888451.png
ORGANIZER;CN="Women and Gender Services":MAILTO:wxgs@mit.edu
END:VEVENT
BEGIN:VEVENT
DTSTART;TZID=America/New_York:20250214T120000
DTEND;TZID=America/New_York:20250214T130000
DTSTAMP:20260422T073326
CREATED:20250207T193725Z
LAST-MODIFIED:20250218T220029Z
UID:10004668-1739534400-1739538000@doingwell.mit.edu
SUMMARY:MIT Puppy Lab
DESCRIPTION:Join us every Friday in the Wellbeing Lab (3rd floor\, Stud) from 12-1pm for unconditional puppy love!
URL:https://doingwell.mit.edu/event/mit-puppy-lab/2025-02-14/
LOCATION:Wellbeing Lab
CATEGORIES:Wellbeing Lab
ATTACH;FMTTYPE=image/png:https://doingwell.mit.edu/wp-content/uploads/2025/02/Puppy-Lab-1-e1738956902188.png
END:VEVENT
BEGIN:VEVENT
DTSTART;TZID=America/New_York:20250214T120000
DTEND;TZID=America/New_York:20250214T140000
DTSTAMP:20260422T073326
CREATED:20250206T184446Z
LAST-MODIFIED:20250206T184449Z
UID:10004664-1739534400-1739541600@doingwell.mit.edu
SUMMARY:Happ-i.e. Valentine's Day from Intercultural Engagement (i.e.)
DESCRIPTION:Join Intercultural Engagement (i.e.) in lobby 10 on Valentine’s Day to pick up a special i.e. valentine or make your own to share with your best-i.e.\, favorite facult-i.e.\, or even your sweet-i.e.! Stop by for some treats and be entered to win some tech cash too! Open to all MIT students! We’ll be there until supplies last!
URL:https://doingwell.mit.edu/event/happ-i-e-valentines-day-from-intercultural-engagement-i-e/
LOCATION:Lobby 10\, 77 Massachusetts Ave\, Lobby 10\, Cambridge\, MA\, 02142\, United States
ATTACH;FMTTYPE=image/png:https://doingwell.mit.edu/wp-content/uploads/2025/02/Happ-i.e.-Valentines-Day-Facebook-Post.png
END:VEVENT
BEGIN:VEVENT
DTSTART;TZID=America/New_York:20250214T200000
DTEND;TZID=America/New_York:20250214T230000
DTSTAMP:20260422T073326
CREATED:20250210T191608Z
LAST-MODIFIED:20250210T191614Z
UID:10004682-1739563200-1739574000@doingwell.mit.edu
SUMMARY:The Eras Tour Movie Night
DESCRIPTION:Come join us for some sweet\, buttery popcorn and a screening of The Eras Tour!
URL:https://doingwell.mit.edu/event/the-eras-tour-movie-night/
LOCATION:Wellbeing Lab
CATEGORIES:Wellbeing Lab
ATTACH;FMTTYPE=image/png:https://doingwell.mit.edu/wp-content/uploads/2025/02/2-14.png
END:VEVENT
END:VCALENDAR