BEGIN:VCALENDAR
VERSION:2.0
PRODID:-//DoingWell At MIT - ECPv6.15.20//NONSGML v1.0//EN
CALSCALE:GREGORIAN
METHOD:PUBLISH
X-ORIGINAL-URL:https://doingwell.mit.edu
X-WR-CALDESC:Events for DoingWell At MIT
REFRESH-INTERVAL;VALUE=DURATION:PT1H
X-Robots-Tag:noindex
X-PUBLISHED-TTL:PT1H
BEGIN:VTIMEZONE
TZID:America/New_York
BEGIN:DAYLIGHT
TZOFFSETFROM:-0500
TZOFFSETTO:-0400
TZNAME:EDT
DTSTART:20230312T070000
END:DAYLIGHT
BEGIN:STANDARD
TZOFFSETFROM:-0400
TZOFFSETTO:-0500
TZNAME:EST
DTSTART:20231105T060000
END:STANDARD
BEGIN:DAYLIGHT
TZOFFSETFROM:-0500
TZOFFSETTO:-0400
TZNAME:EDT
DTSTART:20240310T070000
END:DAYLIGHT
BEGIN:STANDARD
TZOFFSETFROM:-0400
TZOFFSETTO:-0500
TZNAME:EST
DTSTART:20241103T060000
END:STANDARD
BEGIN:DAYLIGHT
TZOFFSETFROM:-0500
TZOFFSETTO:-0400
TZNAME:EDT
DTSTART:20250309T070000
END:DAYLIGHT
BEGIN:STANDARD
TZOFFSETFROM:-0400
TZOFFSETTO:-0500
TZNAME:EST
DTSTART:20251102T060000
END:STANDARD
END:VTIMEZONE
BEGIN:VEVENT
DTSTART;TZID=America/New_York:20241214T210000
DTEND;TZID=America/New_York:20241214T230000
DTSTAMP:20260422T090252
CREATED:20241206T195559Z
LAST-MODIFIED:20241206T195601Z
UID:10003901-1734210000-1734217200@doingwell.mit.edu
SUMMARY:A Filipino Christmas
DESCRIPTION:Come join FSA (Filipino Students Association) as we celebrate Christmas the Filipino way! With lots of karaoke\, food\, and fun!
URL:https://doingwell.mit.edu/event/a-filipino-christmas/
LOCATION:Wellbeing Lab
CATEGORIES:Wellbeing Lab
ATTACH;FMTTYPE=image/png:https://doingwell.mit.edu/wp-content/uploads/2024/12/filioino-event-12-14-e1733514834304.png
END:VEVENT
END:VCALENDAR