BEGIN:VCALENDAR
VERSION:2.0
PRODID:-//DoingWell At MIT - ECPv6.15.20//NONSGML v1.0//EN
CALSCALE:GREGORIAN
METHOD:PUBLISH
X-WR-CALNAME:DoingWell At MIT
X-ORIGINAL-URL:https://doingwell.mit.edu
X-WR-CALDESC:Events for DoingWell At MIT
REFRESH-INTERVAL;VALUE=DURATION:PT1H
X-Robots-Tag:noindex
X-PUBLISHED-TTL:PT1H
BEGIN:VTIMEZONE
TZID:America/New_York
BEGIN:DAYLIGHT
TZOFFSETFROM:-0500
TZOFFSETTO:-0400
TZNAME:EDT
DTSTART:20230312T070000
END:DAYLIGHT
BEGIN:STANDARD
TZOFFSETFROM:-0400
TZOFFSETTO:-0500
TZNAME:EST
DTSTART:20231105T060000
END:STANDARD
BEGIN:DAYLIGHT
TZOFFSETFROM:-0500
TZOFFSETTO:-0400
TZNAME:EDT
DTSTART:20240310T070000
END:DAYLIGHT
BEGIN:STANDARD
TZOFFSETFROM:-0400
TZOFFSETTO:-0500
TZNAME:EST
DTSTART:20241103T060000
END:STANDARD
BEGIN:DAYLIGHT
TZOFFSETFROM:-0500
TZOFFSETTO:-0400
TZNAME:EDT
DTSTART:20250309T070000
END:DAYLIGHT
BEGIN:STANDARD
TZOFFSETFROM:-0400
TZOFFSETTO:-0500
TZNAME:EST
DTSTART:20251102T060000
END:STANDARD
END:VTIMEZONE
BEGIN:VEVENT
DTSTART;TZID=America/New_York:20240917T123000
DTEND;TZID=America/New_York:20240917T130000
DTSTAMP:20260425T202447
CREATED:20240829T210125Z
LAST-MODIFIED:20240829T210128Z
UID:10003859-1726576200-1726578000@doingwell.mit.edu
SUMMARY:Productivity and Efficiency Coaching
DESCRIPTION:This coaching workshop will identify evidence-based strategies to maintain productivity and efficiency so you can make the most of your time this semester.\n\nThe workshop is geared toward the student semester-long experience\, but employees may find the material useful for managing workload. All are welcome to attend.\n\nRegister for this workshop series.\n\nOther workshops in this Performance Coaching series include:\nNine Tips for a Better Semester at MIT on September 10\nMotivation and Focus Coaching on September 24\n\nPlease register for the workshops in order to receive the materials\, even if you are unable to attend.
URL:https://doingwell.mit.edu/event/productivity-and-efficiency-coaching/
LOCATION:Zoom\, Virtual\, Cambridge\, MA\, 02139\, United States
ATTACH;FMTTYPE=image/png:https://doingwell.mit.edu/wp-content/uploads/2024/08/GHC-1.png
ORGANIZER;CN="MIT Health Community Wellness":MAILTO:wellness@med.mit.edu
END:VEVENT
END:VCALENDAR