BEGIN:VCALENDAR
VERSION:2.0
PRODID:-//DoingWell At MIT - ECPv6.15.20//NONSGML v1.0//EN
CALSCALE:GREGORIAN
METHOD:PUBLISH
X-WR-CALNAME:DoingWell At MIT
X-ORIGINAL-URL:https://doingwell.mit.edu
X-WR-CALDESC:Events for DoingWell At MIT
REFRESH-INTERVAL;VALUE=DURATION:PT1H
X-Robots-Tag:noindex
X-PUBLISHED-TTL:PT1H
BEGIN:VTIMEZONE
TZID:America/New_York
BEGIN:DAYLIGHT
TZOFFSETFROM:-0500
TZOFFSETTO:-0400
TZNAME:EDT
DTSTART:20240310T070000
END:DAYLIGHT
BEGIN:STANDARD
TZOFFSETFROM:-0400
TZOFFSETTO:-0500
TZNAME:EST
DTSTART:20241103T060000
END:STANDARD
BEGIN:DAYLIGHT
TZOFFSETFROM:-0500
TZOFFSETTO:-0400
TZNAME:EDT
DTSTART:20250309T070000
END:DAYLIGHT
BEGIN:STANDARD
TZOFFSETFROM:-0400
TZOFFSETTO:-0500
TZNAME:EST
DTSTART:20251102T060000
END:STANDARD
BEGIN:DAYLIGHT
TZOFFSETFROM:-0500
TZOFFSETTO:-0400
TZNAME:EDT
DTSTART:20260308T070000
END:DAYLIGHT
BEGIN:STANDARD
TZOFFSETFROM:-0400
TZOFFSETTO:-0500
TZNAME:EST
DTSTART:20261101T060000
END:STANDARD
END:VTIMEZONE
BEGIN:VEVENT
DTSTART;TZID=America/New_York:20250424T180000
DTEND;TZID=America/New_York:20250424T193000
DTSTAMP:20260424T214943
CREATED:20250324T141910Z
LAST-MODIFIED:20250324T141913Z
UID:10004845-1745517600-1745523000@doingwell.mit.edu
SUMMARY:Careers in International Development– Recalibrating\, Refocusing\, and Recommitting
DESCRIPTION:Are you hoping for a career in international development\, humanitarian engineering\, development economics\, or global health? Are you concerned about these career paths given the recent assault on the sector and dismantling of US foreign assistance in general and USAID in particular? You are not alone! And it is perhaps more important than ever to use your skills and experience to address global challenges and assist in reducing inequality around the world. At this session\, you’ll have an opportunity to connect with experienced international development professionals from organizations based in the Boston area\, as well as staff and faculty from MIT\, to get their perspectives on how to succeed in global development in the current climate. Participate in intimate round table discussions with our speakers to learn about different career paths\, new and emerging strategies to enter into the field\, and the resources available at MIT to gain valuable experience. Be sure to come with many questions! \nSpeakers: Michael Eschleman (International Development Project Manager and Consultant); Neil Levine (Consultant and Career Coach with experience in International Relations and NGOs); more TBA! \nLight refreshments will be provided.
URL:https://doingwell.mit.edu/event/careers-in-international-development-recalibrating-refocusing-and-recommitting/
LOCATION:Wellbeing Lab
CATEGORIES:Wellbeing Lab
ATTACH;FMTTYPE=image/jpeg:https://doingwell.mit.edu/wp-content/uploads/2025/03/54351047771_34b5b38f28_o-scaled-e1742825897575.jpg
ORGANIZER;CN="MIT D-Lab%2C PKG Center%2C CAPD":MAILTO:nadamsx@mit.edu
END:VEVENT
END:VCALENDAR