BEGIN:VCALENDAR
VERSION:2.0
PRODID:-//DoingWell At MIT - ECPv6.15.20//NONSGML v1.0//EN
CALSCALE:GREGORIAN
METHOD:PUBLISH
X-ORIGINAL-URL:https://doingwell.mit.edu
X-WR-CALDESC:Events for DoingWell At MIT
REFRESH-INTERVAL;VALUE=DURATION:PT1H
X-Robots-Tag:noindex
X-PUBLISHED-TTL:PT1H
BEGIN:VTIMEZONE
TZID:America/New_York
BEGIN:DAYLIGHT
TZOFFSETFROM:-0500
TZOFFSETTO:-0400
TZNAME:EDT
DTSTART:20250309T070000
END:DAYLIGHT
BEGIN:STANDARD
TZOFFSETFROM:-0400
TZOFFSETTO:-0500
TZNAME:EST
DTSTART:20251102T060000
END:STANDARD
BEGIN:DAYLIGHT
TZOFFSETFROM:-0500
TZOFFSETTO:-0400
TZNAME:EDT
DTSTART:20260308T070000
END:DAYLIGHT
BEGIN:STANDARD
TZOFFSETFROM:-0400
TZOFFSETTO:-0500
TZNAME:EST
DTSTART:20261101T060000
END:STANDARD
BEGIN:DAYLIGHT
TZOFFSETFROM:-0500
TZOFFSETTO:-0400
TZNAME:EDT
DTSTART:20270314T070000
END:DAYLIGHT
BEGIN:STANDARD
TZOFFSETFROM:-0400
TZOFFSETTO:-0500
TZNAME:EST
DTSTART:20271107T060000
END:STANDARD
END:VTIMEZONE
BEGIN:VEVENT
DTSTART;TZID=America/New_York:20260210T110000
DTEND;TZID=America/New_York:20260210T140000
DTSTAMP:20260424T213748
CREATED:20260205T183954Z
LAST-MODIFIED:20260205T183957Z
UID:10004974-1770721200-1770732000@doingwell.mit.edu
SUMMARY:Self-Love Letter Writing
DESCRIPTION:This Valentine’s Day\, join VPR and Women & Gender Services in celebrating love in all forms! Meet us in the Wellbeing Lab on Tuesday\, February 10th\, from 11 AM-2 PM to practice self-care and restorative reflection. We will provide supplies necessary to write self-love letters\, make bracelets\, and create self-care kits for survivors on campus. Snacks and candy will be available\, so bring a friend and spread the word! We hope to see you there.
URL:https://doingwell.mit.edu/event/self-love-letter-writing/
LOCATION:Wellbeing Lab\, 84 Massachusetts Avenue\, 3rd Floor\, Cambridge\, Massachusetts\, 02139\, United States
CATEGORIES:Wellbeing Lab
ATTACH;FMTTYPE=image/png:https://doingwell.mit.edu/wp-content/uploads/2026/02/self-love-letter-writing-e1770316689556.png
END:VEVENT
BEGIN:VEVENT
DTSTART;TZID=America/New_York:20260220T121000
DTEND;TZID=America/New_York:20260220T124000
DTSTAMP:20260424T213748
CREATED:20260220T205137Z
LAST-MODIFIED:20260220T205147Z
UID:10004982-1771589400-1771591200@doingwell.mit.edu
SUMMARY:getfit - Tunnel Walk - E23 Atrium
DESCRIPTION:Want to get exercise mid-day but don’t want to go outside? Join the tunnel walk for a 30-minute walk led by a volunteer through MIT’s famous tunnel system. This walk may include stairs/inclines. Wear comfortable shoes.  \nThis Tunnel Walk will be starting from Building E23 Atrium. Please arrive to the designated location on time as the walk will begin promptly at 12:10pm.  \nComplete 8 Tunnel walks and you’ll earn an MIT Recreation hip bag. Turn in completed cards to the Z center front desk between April 5-April 22 to receive your hip pack.
URL:https://doingwell.mit.edu/event/getfit-tunnel-walk-e23-atrium-2/
LOCATION:Massachusetts
ATTACH;FMTTYPE=image/png:https://doingwell.mit.edu/wp-content/uploads/2026/02/Card-Tunnel-Walk-Passport-Facebook-Video.png
ORGANIZER;CN="MIT Recreation":MAILTO:Rothbart@mit.edu
END:VEVENT
BEGIN:VEVENT
DTSTART;TZID=America/New_York:20260223T121000
DTEND;TZID=America/New_York:20260223T124000
DTSTAMP:20260424T213748
CREATED:20260220T205027Z
LAST-MODIFIED:20260220T205030Z
UID:10004983-1771848600-1771850400@doingwell.mit.edu
SUMMARY:getfit - Tunnel Walk - E23 Atrium
DESCRIPTION:Want to get exercise mid-day but don’t want to go outside? Join the tunnel walk for a 30-minute walk led by a volunteer through MIT’s famous tunnel system. This walk may include stairs/inclines. Wear comfortable shoes.  \nThis Tunnel Walk will be starting from Building E23 Atrium. Please arrive to the designated location on time as the walk will begin promptly at 12:10pm.  \nComplete 8 Tunnel walks and you’ll earn an MIT Recreation hip bag. Turn in completed cards to the Z center front desk between April 5-April 22 to receive your hip pack.
URL:https://doingwell.mit.edu/event/getfit-tunnel-walk-e23-atrium/
LOCATION:Massachusetts
ATTACH;FMTTYPE=image/png:https://doingwell.mit.edu/wp-content/uploads/2026/02/Card-Tunnel-Walk-Passport-Facebook-Video.png
ORGANIZER;CN="MIT Recreation":MAILTO:Rothbart@mit.edu
END:VEVENT
BEGIN:VEVENT
DTSTART;TZID=America/New_York:20260225T120000
DTEND;TZID=America/New_York:20260225T130000
DTSTAMP:20260424T213748
CREATED:20260205T183709Z
LAST-MODIFIED:20260205T183711Z
UID:10004973-1772020800-1772024400@doingwell.mit.edu
SUMMARY:AI-dea Hour: How should we use AI in the classroom?
DESCRIPTION:Join Radius for an informal lunchtime discussion on the role of AI in the classroom and its impact on your experience at MIT. Open to faculty\, students\, and staff alike from all perspectives of the AI spectrum! \nThis event follows our successful AI-dea Hour in the fall semester and will inform the design of a more public event in April. Please join us whether you are new to Radius or not! \nPlease RSVP to secure your meal: https://forms.gle/Hgw9JVv4KgHwJLvD6
URL:https://doingwell.mit.edu/event/ai-dea-hour-how-should-we-use-ai-in-the-classroom-2/
LOCATION:Wellbeing Lab\, 84 Massachusetts Avenue\, 3rd Floor\, Cambridge\, Massachusetts\, 02139\, United States
CATEGORIES:Wellbeing Lab
ATTACH;FMTTYPE=image/jpeg:https://doingwell.mit.edu/wp-content/uploads/2026/02/AI-dea-Hour-Feb-2026-digital.jpeg
ORGANIZER;CN="MIT Radius":MAILTO:slall@mit.edu
END:VEVENT
END:VCALENDAR