BEGIN:VCALENDAR
VERSION:2.0
PRODID:-//DoingWell At MIT - ECPv6.15.20//NONSGML v1.0//EN
CALSCALE:GREGORIAN
METHOD:PUBLISH
X-WR-CALNAME:DoingWell At MIT
X-ORIGINAL-URL:https://doingwell.mit.edu
X-WR-CALDESC:Events for DoingWell At MIT
REFRESH-INTERVAL;VALUE=DURATION:PT1H
X-Robots-Tag:noindex
X-PUBLISHED-TTL:PT1H
BEGIN:VTIMEZONE
TZID:America/New_York
BEGIN:DAYLIGHT
TZOFFSETFROM:-0500
TZOFFSETTO:-0400
TZNAME:EDT
DTSTART:20230312T070000
END:DAYLIGHT
BEGIN:STANDARD
TZOFFSETFROM:-0400
TZOFFSETTO:-0500
TZNAME:EST
DTSTART:20231105T060000
END:STANDARD
BEGIN:DAYLIGHT
TZOFFSETFROM:-0500
TZOFFSETTO:-0400
TZNAME:EDT
DTSTART:20240310T070000
END:DAYLIGHT
BEGIN:STANDARD
TZOFFSETFROM:-0400
TZOFFSETTO:-0500
TZNAME:EST
DTSTART:20241103T060000
END:STANDARD
BEGIN:DAYLIGHT
TZOFFSETFROM:-0500
TZOFFSETTO:-0400
TZNAME:EDT
DTSTART:20250309T070000
END:DAYLIGHT
BEGIN:STANDARD
TZOFFSETFROM:-0400
TZOFFSETTO:-0500
TZNAME:EST
DTSTART:20251102T060000
END:STANDARD
END:VTIMEZONE
BEGIN:VEVENT
DTSTART;TZID=America/New_York:20240418T160000
DTEND;TZID=America/New_York:20240418T170000
DTSTAMP:20260424T123739
CREATED:20240125T212814Z
LAST-MODIFIED:20240128T235104Z
UID:10003748-1713456000-1713459600@doingwell.mit.edu
SUMMARY:What Hinges on Anti-Palestinian Racism
DESCRIPTION:Murad Idris is an associate professor of Political Science at the University of Michigan. His research and teaching explores political theory\, the history of political thought\, and political theology. \nDialogues Across Difference focuses on modeling disagreement by elevating and encouraging dialogue.
URL:https://doingwell.mit.edu/event/what-hinges-on-anti-palestinian-racism/
LOCATION:45-801\, 51 Vassar Street\, Cambridge\, Massachusetts\, 02139\, United States
ATTACH;FMTTYPE=image/jpeg:https://doingwell.mit.edu/wp-content/uploads/2024/01/https-__cdn.evbuc_.com_images_681806899_95544587975_1_original.jpg
END:VEVENT
END:VCALENDAR