BEGIN:VCALENDAR
VERSION:2.0
PRODID:-//DoingWell At MIT - ECPv6.15.20//NONSGML v1.0//EN
CALSCALE:GREGORIAN
METHOD:PUBLISH
X-ORIGINAL-URL:https://doingwell.mit.edu
X-WR-CALDESC:Events for DoingWell At MIT
REFRESH-INTERVAL;VALUE=DURATION:PT1H
X-Robots-Tag:noindex
X-PUBLISHED-TTL:PT1H
BEGIN:VTIMEZONE
TZID:UTC
BEGIN:STANDARD
TZOFFSETFROM:+0000
TZOFFSETTO:+0000
TZNAME:UTC
DTSTART:20220101T000000
END:STANDARD
END:VTIMEZONE
BEGIN:VTIMEZONE
TZID:America/New_York
BEGIN:DAYLIGHT
TZOFFSETFROM:-0500
TZOFFSETTO:-0400
TZNAME:EDT
DTSTART:20220313T070000
END:DAYLIGHT
BEGIN:STANDARD
TZOFFSETFROM:-0400
TZOFFSETTO:-0500
TZNAME:EST
DTSTART:20221106T060000
END:STANDARD
BEGIN:DAYLIGHT
TZOFFSETFROM:-0500
TZOFFSETTO:-0400
TZNAME:EDT
DTSTART:20230312T070000
END:DAYLIGHT
BEGIN:STANDARD
TZOFFSETFROM:-0400
TZOFFSETTO:-0500
TZNAME:EST
DTSTART:20231105T060000
END:STANDARD
BEGIN:DAYLIGHT
TZOFFSETFROM:-0500
TZOFFSETTO:-0400
TZNAME:EDT
DTSTART:20240310T070000
END:DAYLIGHT
BEGIN:STANDARD
TZOFFSETFROM:-0400
TZOFFSETTO:-0500
TZNAME:EST
DTSTART:20241103T060000
END:STANDARD
END:VTIMEZONE
BEGIN:VEVENT
DTSTART;TZID=UTC:20231030T000000
DTEND;TZID=UTC:20231113T235959
DTSTAMP:20260422T234531
CREATED:20220207T193129Z
LAST-MODIFIED:20220207T193130Z
UID:10002900-1698624000-1699919999@doingwell.mit.edu
SUMMARY:Virtual 5K Run/Walk Training Program
DESCRIPTION:Does your exercise routine need a jump start? Join getfit and MIT Recreation for a virtual 5K run/walk training program open to the entire MIT community.\nWe have eight weeks of fun activities and challenges planned to get you ready to run or walk the virtual 5K. \nTraining starts on Tuesday\, February 22\, 2022 and the virtual 5K takes place April 11 – 24.
URL:https://doingwell.mit.edu/event/virtual-5k-run-walk-training-program/2023-10-30/
LOCATION:Massachusetts
ATTACH;FMTTYPE=image/png:https://doingwell.mit.edu/wp-content/uploads/2022/02/getfit-5K-IG.png
ORGANIZER;CN="MIT Health Community Wellness":MAILTO:wellness@med.mit.edu
END:VEVENT
BEGIN:VEVENT
DTSTART;TZID=UTC:20231031T000000
DTEND;TZID=UTC:20231114T235959
DTSTAMP:20260422T234531
CREATED:20220207T193129Z
LAST-MODIFIED:20220207T193130Z
UID:10002901-1698710400-1700006399@doingwell.mit.edu
SUMMARY:Virtual 5K Run/Walk Training Program
DESCRIPTION:Does your exercise routine need a jump start? Join getfit and MIT Recreation for a virtual 5K run/walk training program open to the entire MIT community.\nWe have eight weeks of fun activities and challenges planned to get you ready to run or walk the virtual 5K. \nTraining starts on Tuesday\, February 22\, 2022 and the virtual 5K takes place April 11 – 24.
URL:https://doingwell.mit.edu/event/virtual-5k-run-walk-training-program/2023-10-31/
LOCATION:Massachusetts
ATTACH;FMTTYPE=image/png:https://doingwell.mit.edu/wp-content/uploads/2022/02/getfit-5K-IG.png
ORGANIZER;CN="MIT Health Community Wellness":MAILTO:wellness@med.mit.edu
END:VEVENT
BEGIN:VEVENT
DTSTART;TZID=UTC:20231101T000000
DTEND;TZID=UTC:20231115T235959
DTSTAMP:20260422T234531
CREATED:20220207T193129Z
LAST-MODIFIED:20220207T193130Z
UID:10002902-1698796800-1700092799@doingwell.mit.edu
SUMMARY:Virtual 5K Run/Walk Training Program
DESCRIPTION:Does your exercise routine need a jump start? Join getfit and MIT Recreation for a virtual 5K run/walk training program open to the entire MIT community.\nWe have eight weeks of fun activities and challenges planned to get you ready to run or walk the virtual 5K. \nTraining starts on Tuesday\, February 22\, 2022 and the virtual 5K takes place April 11 – 24.
URL:https://doingwell.mit.edu/event/virtual-5k-run-walk-training-program/2023-11-01/
LOCATION:Massachusetts
ATTACH;FMTTYPE=image/png:https://doingwell.mit.edu/wp-content/uploads/2022/02/getfit-5K-IG.png
ORGANIZER;CN="MIT Health Community Wellness":MAILTO:wellness@med.mit.edu
END:VEVENT
BEGIN:VEVENT
DTSTART;TZID=UTC:20231102T000000
DTEND;TZID=UTC:20231116T235959
DTSTAMP:20260422T234531
CREATED:20220207T193129Z
LAST-MODIFIED:20220207T193130Z
UID:10002903-1698883200-1700179199@doingwell.mit.edu
SUMMARY:Virtual 5K Run/Walk Training Program
DESCRIPTION:Does your exercise routine need a jump start? Join getfit and MIT Recreation for a virtual 5K run/walk training program open to the entire MIT community.\nWe have eight weeks of fun activities and challenges planned to get you ready to run or walk the virtual 5K. \nTraining starts on Tuesday\, February 22\, 2022 and the virtual 5K takes place April 11 – 24.
URL:https://doingwell.mit.edu/event/virtual-5k-run-walk-training-program/2023-11-02/
LOCATION:Massachusetts
ATTACH;FMTTYPE=image/png:https://doingwell.mit.edu/wp-content/uploads/2022/02/getfit-5K-IG.png
ORGANIZER;CN="MIT Health Community Wellness":MAILTO:wellness@med.mit.edu
END:VEVENT
BEGIN:VEVENT
DTSTART;TZID=UTC:20231103T000000
DTEND;TZID=UTC:20231117T235959
DTSTAMP:20260422T234531
CREATED:20220207T193129Z
LAST-MODIFIED:20220207T193130Z
UID:10002904-1698969600-1700265599@doingwell.mit.edu
SUMMARY:Virtual 5K Run/Walk Training Program
DESCRIPTION:Does your exercise routine need a jump start? Join getfit and MIT Recreation for a virtual 5K run/walk training program open to the entire MIT community.\nWe have eight weeks of fun activities and challenges planned to get you ready to run or walk the virtual 5K. \nTraining starts on Tuesday\, February 22\, 2022 and the virtual 5K takes place April 11 – 24.
URL:https://doingwell.mit.edu/event/virtual-5k-run-walk-training-program/2023-11-03/
LOCATION:Massachusetts
ATTACH;FMTTYPE=image/png:https://doingwell.mit.edu/wp-content/uploads/2022/02/getfit-5K-IG.png
ORGANIZER;CN="MIT Health Community Wellness":MAILTO:wellness@med.mit.edu
END:VEVENT
BEGIN:VEVENT
DTSTART;TZID=UTC:20231104T000000
DTEND;TZID=UTC:20231118T235959
DTSTAMP:20260422T234531
CREATED:20220207T193129Z
LAST-MODIFIED:20220207T193130Z
UID:10002905-1699056000-1700351999@doingwell.mit.edu
SUMMARY:Virtual 5K Run/Walk Training Program
DESCRIPTION:Does your exercise routine need a jump start? Join getfit and MIT Recreation for a virtual 5K run/walk training program open to the entire MIT community.\nWe have eight weeks of fun activities and challenges planned to get you ready to run or walk the virtual 5K. \nTraining starts on Tuesday\, February 22\, 2022 and the virtual 5K takes place April 11 – 24.
URL:https://doingwell.mit.edu/event/virtual-5k-run-walk-training-program/2023-11-04/
LOCATION:Massachusetts
ATTACH;FMTTYPE=image/png:https://doingwell.mit.edu/wp-content/uploads/2022/02/getfit-5K-IG.png
ORGANIZER;CN="MIT Health Community Wellness":MAILTO:wellness@med.mit.edu
END:VEVENT
BEGIN:VEVENT
DTSTART;TZID=UTC:20231105T000000
DTEND;TZID=UTC:20231119T235959
DTSTAMP:20260422T234531
CREATED:20220207T193129Z
LAST-MODIFIED:20220207T193130Z
UID:10002906-1699142400-1700438399@doingwell.mit.edu
SUMMARY:Virtual 5K Run/Walk Training Program
DESCRIPTION:Does your exercise routine need a jump start? Join getfit and MIT Recreation for a virtual 5K run/walk training program open to the entire MIT community.\nWe have eight weeks of fun activities and challenges planned to get you ready to run or walk the virtual 5K. \nTraining starts on Tuesday\, February 22\, 2022 and the virtual 5K takes place April 11 – 24.
URL:https://doingwell.mit.edu/event/virtual-5k-run-walk-training-program/2023-11-05/
LOCATION:Massachusetts
ATTACH;FMTTYPE=image/png:https://doingwell.mit.edu/wp-content/uploads/2022/02/getfit-5K-IG.png
ORGANIZER;CN="MIT Health Community Wellness":MAILTO:wellness@med.mit.edu
END:VEVENT
BEGIN:VEVENT
DTSTART;TZID=UTC:20231106T000000
DTEND;TZID=UTC:20231120T235959
DTSTAMP:20260422T234531
CREATED:20220207T193129Z
LAST-MODIFIED:20220207T193130Z
UID:10002907-1699228800-1700524799@doingwell.mit.edu
SUMMARY:Virtual 5K Run/Walk Training Program
DESCRIPTION:Does your exercise routine need a jump start? Join getfit and MIT Recreation for a virtual 5K run/walk training program open to the entire MIT community.\nWe have eight weeks of fun activities and challenges planned to get you ready to run or walk the virtual 5K. \nTraining starts on Tuesday\, February 22\, 2022 and the virtual 5K takes place April 11 – 24.
URL:https://doingwell.mit.edu/event/virtual-5k-run-walk-training-program/2023-11-06/
LOCATION:Massachusetts
ATTACH;FMTTYPE=image/png:https://doingwell.mit.edu/wp-content/uploads/2022/02/getfit-5K-IG.png
ORGANIZER;CN="MIT Health Community Wellness":MAILTO:wellness@med.mit.edu
END:VEVENT
BEGIN:VEVENT
DTSTART;TZID=UTC:20231107T000000
DTEND;TZID=UTC:20231121T235959
DTSTAMP:20260422T234531
CREATED:20220207T193129Z
LAST-MODIFIED:20220207T193130Z
UID:10002908-1699315200-1700611199@doingwell.mit.edu
SUMMARY:Virtual 5K Run/Walk Training Program
DESCRIPTION:Does your exercise routine need a jump start? Join getfit and MIT Recreation for a virtual 5K run/walk training program open to the entire MIT community.\nWe have eight weeks of fun activities and challenges planned to get you ready to run or walk the virtual 5K. \nTraining starts on Tuesday\, February 22\, 2022 and the virtual 5K takes place April 11 – 24.
URL:https://doingwell.mit.edu/event/virtual-5k-run-walk-training-program/2023-11-07/
LOCATION:Massachusetts
ATTACH;FMTTYPE=image/png:https://doingwell.mit.edu/wp-content/uploads/2022/02/getfit-5K-IG.png
ORGANIZER;CN="MIT Health Community Wellness":MAILTO:wellness@med.mit.edu
END:VEVENT
BEGIN:VEVENT
DTSTART;TZID=UTC:20231108T000000
DTEND;TZID=UTC:20231122T235959
DTSTAMP:20260422T234531
CREATED:20220207T193129Z
LAST-MODIFIED:20220207T193130Z
UID:10002909-1699401600-1700697599@doingwell.mit.edu
SUMMARY:Virtual 5K Run/Walk Training Program
DESCRIPTION:Does your exercise routine need a jump start? Join getfit and MIT Recreation for a virtual 5K run/walk training program open to the entire MIT community.\nWe have eight weeks of fun activities and challenges planned to get you ready to run or walk the virtual 5K. \nTraining starts on Tuesday\, February 22\, 2022 and the virtual 5K takes place April 11 – 24.
URL:https://doingwell.mit.edu/event/virtual-5k-run-walk-training-program/2023-11-08/
LOCATION:Massachusetts
ATTACH;FMTTYPE=image/png:https://doingwell.mit.edu/wp-content/uploads/2022/02/getfit-5K-IG.png
ORGANIZER;CN="MIT Health Community Wellness":MAILTO:wellness@med.mit.edu
END:VEVENT
BEGIN:VEVENT
DTSTART;TZID=UTC:20231109T000000
DTEND;TZID=UTC:20231123T235959
DTSTAMP:20260422T234531
CREATED:20220207T193129Z
LAST-MODIFIED:20220207T193130Z
UID:10002910-1699488000-1700783999@doingwell.mit.edu
SUMMARY:Virtual 5K Run/Walk Training Program
DESCRIPTION:Does your exercise routine need a jump start? Join getfit and MIT Recreation for a virtual 5K run/walk training program open to the entire MIT community.\nWe have eight weeks of fun activities and challenges planned to get you ready to run or walk the virtual 5K. \nTraining starts on Tuesday\, February 22\, 2022 and the virtual 5K takes place April 11 – 24.
URL:https://doingwell.mit.edu/event/virtual-5k-run-walk-training-program/2023-11-09/
LOCATION:Massachusetts
ATTACH;FMTTYPE=image/png:https://doingwell.mit.edu/wp-content/uploads/2022/02/getfit-5K-IG.png
ORGANIZER;CN="MIT Health Community Wellness":MAILTO:wellness@med.mit.edu
END:VEVENT
BEGIN:VEVENT
DTSTART;TZID=UTC:20231110T000000
DTEND;TZID=UTC:20231124T235959
DTSTAMP:20260422T234531
CREATED:20220207T193129Z
LAST-MODIFIED:20220207T193130Z
UID:10002911-1699574400-1700870399@doingwell.mit.edu
SUMMARY:Virtual 5K Run/Walk Training Program
DESCRIPTION:Does your exercise routine need a jump start? Join getfit and MIT Recreation for a virtual 5K run/walk training program open to the entire MIT community.\nWe have eight weeks of fun activities and challenges planned to get you ready to run or walk the virtual 5K. \nTraining starts on Tuesday\, February 22\, 2022 and the virtual 5K takes place April 11 – 24.
URL:https://doingwell.mit.edu/event/virtual-5k-run-walk-training-program/2023-11-10/
LOCATION:Massachusetts
ATTACH;FMTTYPE=image/png:https://doingwell.mit.edu/wp-content/uploads/2022/02/getfit-5K-IG.png
ORGANIZER;CN="MIT Health Community Wellness":MAILTO:wellness@med.mit.edu
END:VEVENT
BEGIN:VEVENT
DTSTART;TZID=UTC:20231111T000000
DTEND;TZID=UTC:20231125T235959
DTSTAMP:20260422T234531
CREATED:20220207T193129Z
LAST-MODIFIED:20220207T193130Z
UID:10002912-1699660800-1700956799@doingwell.mit.edu
SUMMARY:Virtual 5K Run/Walk Training Program
DESCRIPTION:Does your exercise routine need a jump start? Join getfit and MIT Recreation for a virtual 5K run/walk training program open to the entire MIT community.\nWe have eight weeks of fun activities and challenges planned to get you ready to run or walk the virtual 5K. \nTraining starts on Tuesday\, February 22\, 2022 and the virtual 5K takes place April 11 – 24.
URL:https://doingwell.mit.edu/event/virtual-5k-run-walk-training-program/2023-11-11/
LOCATION:Massachusetts
ATTACH;FMTTYPE=image/png:https://doingwell.mit.edu/wp-content/uploads/2022/02/getfit-5K-IG.png
ORGANIZER;CN="MIT Health Community Wellness":MAILTO:wellness@med.mit.edu
END:VEVENT
BEGIN:VEVENT
DTSTART;TZID=UTC:20231112T000000
DTEND;TZID=UTC:20231126T235959
DTSTAMP:20260422T234531
CREATED:20220207T193129Z
LAST-MODIFIED:20220207T193130Z
UID:10002913-1699747200-1701043199@doingwell.mit.edu
SUMMARY:Virtual 5K Run/Walk Training Program
DESCRIPTION:Does your exercise routine need a jump start? Join getfit and MIT Recreation for a virtual 5K run/walk training program open to the entire MIT community.\nWe have eight weeks of fun activities and challenges planned to get you ready to run or walk the virtual 5K. \nTraining starts on Tuesday\, February 22\, 2022 and the virtual 5K takes place April 11 – 24.
URL:https://doingwell.mit.edu/event/virtual-5k-run-walk-training-program/2023-11-12/
LOCATION:Massachusetts
ATTACH;FMTTYPE=image/png:https://doingwell.mit.edu/wp-content/uploads/2022/02/getfit-5K-IG.png
ORGANIZER;CN="MIT Health Community Wellness":MAILTO:wellness@med.mit.edu
END:VEVENT
BEGIN:VEVENT
DTSTART;TZID=UTC:20231113T000000
DTEND;TZID=UTC:20231127T235959
DTSTAMP:20260422T234531
CREATED:20220207T193129Z
LAST-MODIFIED:20220207T193130Z
UID:10002914-1699833600-1701129599@doingwell.mit.edu
SUMMARY:Virtual 5K Run/Walk Training Program
DESCRIPTION:Does your exercise routine need a jump start? Join getfit and MIT Recreation for a virtual 5K run/walk training program open to the entire MIT community.\nWe have eight weeks of fun activities and challenges planned to get you ready to run or walk the virtual 5K. \nTraining starts on Tuesday\, February 22\, 2022 and the virtual 5K takes place April 11 – 24.
URL:https://doingwell.mit.edu/event/virtual-5k-run-walk-training-program/2023-11-13/
LOCATION:Massachusetts
ATTACH;FMTTYPE=image/png:https://doingwell.mit.edu/wp-content/uploads/2022/02/getfit-5K-IG.png
ORGANIZER;CN="MIT Health Community Wellness":MAILTO:wellness@med.mit.edu
END:VEVENT
BEGIN:VEVENT
DTSTART;TZID=UTC:20231114T000000
DTEND;TZID=UTC:20231128T235959
DTSTAMP:20260422T234531
CREATED:20220207T193129Z
LAST-MODIFIED:20220207T193130Z
UID:10002915-1699920000-1701215999@doingwell.mit.edu
SUMMARY:Virtual 5K Run/Walk Training Program
DESCRIPTION:Does your exercise routine need a jump start? Join getfit and MIT Recreation for a virtual 5K run/walk training program open to the entire MIT community.\nWe have eight weeks of fun activities and challenges planned to get you ready to run or walk the virtual 5K. \nTraining starts on Tuesday\, February 22\, 2022 and the virtual 5K takes place April 11 – 24.
URL:https://doingwell.mit.edu/event/virtual-5k-run-walk-training-program/2023-11-14/
LOCATION:Massachusetts
ATTACH;FMTTYPE=image/png:https://doingwell.mit.edu/wp-content/uploads/2022/02/getfit-5K-IG.png
ORGANIZER;CN="MIT Health Community Wellness":MAILTO:wellness@med.mit.edu
END:VEVENT
BEGIN:VEVENT
DTSTART;TZID=America/New_York:20231114T163000
DTEND;TZID=America/New_York:20231114T173000
DTSTAMP:20260422T234531
CREATED:20231026T151053Z
LAST-MODIFIED:20231026T151055Z
UID:10003730-1699979400-1699983000@doingwell.mit.edu
SUMMARY:Existing Under the Trans Umbrella at MIT Panel Discussion
DESCRIPTION:Panel discussion featuring MIT students\, alumnx\, faculty & staff sharing their experiences navigating MIT’s campus as trans-identifying individuals (e.g.\, transgender\, agender\, nonbinary\, genderqueer\, etc.).
URL:https://doingwell.mit.edu/event/existing-under-the-trans-umbrella-at-mit-panel-discussion/
LOCATION:Rainbow Lounge 50-250\, 142 Memorial Drive\, Cambridge\, MA\, United States
ATTACH;FMTTYPE=image/webp:https://doingwell.mit.edu/wp-content/uploads/2023/10/trans_umbrella-e1698332957329.webp
END:VEVENT
BEGIN:VEVENT
DTSTART;TZID=UTC:20231115T000000
DTEND;TZID=UTC:20231129T235959
DTSTAMP:20260422T234531
CREATED:20220207T193129Z
LAST-MODIFIED:20220207T193130Z
UID:10002916-1700006400-1701302399@doingwell.mit.edu
SUMMARY:Virtual 5K Run/Walk Training Program
DESCRIPTION:Does your exercise routine need a jump start? Join getfit and MIT Recreation for a virtual 5K run/walk training program open to the entire MIT community.\nWe have eight weeks of fun activities and challenges planned to get you ready to run or walk the virtual 5K. \nTraining starts on Tuesday\, February 22\, 2022 and the virtual 5K takes place April 11 – 24.
URL:https://doingwell.mit.edu/event/virtual-5k-run-walk-training-program/2023-11-15/
LOCATION:Massachusetts
ATTACH;FMTTYPE=image/png:https://doingwell.mit.edu/wp-content/uploads/2022/02/getfit-5K-IG.png
ORGANIZER;CN="MIT Health Community Wellness":MAILTO:wellness@med.mit.edu
END:VEVENT
BEGIN:VEVENT
DTSTART;TZID=UTC:20231116T000000
DTEND;TZID=UTC:20231130T235959
DTSTAMP:20260422T234531
CREATED:20220207T193129Z
LAST-MODIFIED:20220207T193130Z
UID:10002917-1700092800-1701388799@doingwell.mit.edu
SUMMARY:Virtual 5K Run/Walk Training Program
DESCRIPTION:Does your exercise routine need a jump start? Join getfit and MIT Recreation for a virtual 5K run/walk training program open to the entire MIT community.\nWe have eight weeks of fun activities and challenges planned to get you ready to run or walk the virtual 5K. \nTraining starts on Tuesday\, February 22\, 2022 and the virtual 5K takes place April 11 – 24.
URL:https://doingwell.mit.edu/event/virtual-5k-run-walk-training-program/2023-11-16/
LOCATION:Massachusetts
ATTACH;FMTTYPE=image/png:https://doingwell.mit.edu/wp-content/uploads/2022/02/getfit-5K-IG.png
ORGANIZER;CN="MIT Health Community Wellness":MAILTO:wellness@med.mit.edu
END:VEVENT
BEGIN:VEVENT
DTSTART;TZID=America/New_York:20231116T160000
DTEND;TZID=America/New_York:20231116T180000
DTSTAMP:20260422T234531
CREATED:20231114T193234Z
LAST-MODIFIED:20231114T193235Z
UID:10003738-1700150400-1700157600@doingwell.mit.edu
SUMMARY:Wellbeing Ambassadors: Come Give Thanks Event
DESCRIPTION:Join MIT Wellbeing Ambassadors for free donuts\, cider\, and gratitude activities! \nThursday\, November 16 | 4-6pm | Wellbeing Lab\, 3rd Floor of Stud
URL:https://doingwell.mit.edu/event/wellbeing-ambassadors-come-give-thanks-event/
LOCATION:Wellbeing Lab
ATTACH;FMTTYPE=image/png:https://doingwell.mit.edu/wp-content/uploads/2023/11/11.16.23_WAs-Gratitude.png
END:VEVENT
BEGIN:VEVENT
DTSTART;TZID=America/New_York:20231116T173000
DTEND;TZID=America/New_York:20231116T193000
DTSTAMP:20260422T234531
CREATED:20231030T164042Z
LAST-MODIFIED:20231030T164044Z
UID:10003733-1700155800-1700163000@doingwell.mit.edu
SUMMARY:Disability Visibility: Can You See Us Now?
DESCRIPTION:Join MIT Reads on Thursday\, November 16 at 5:30pm in room 3-270 for “Disability Visibility: Can You See Us Now?” \nThe event is a panel discussion featuring three of the contributors to “Disability Visibility”: Alice Wong\, Britney Wilson\, and Elsa Sjunneson. \nRegistration is required: https://www.eventbrite.com/e/disability-visibility-can-you-see-us-now-tickets-731314269667 \nDisability Visibility was chosen by MIT Reads in collaboration with Women and Gender Services. Our partners in planning this program include the Disabilities Employee Resource Group\, Disability and Access Services\, and student members of disabled@mit. Special thanks to our co-sponsors: The Institute Community and Equity Office\, Human Resources\, the School of Engineering\, the School of Humanities and Social Sciences\, the Sloan School’s Student Life Office the Office of Diversity\, Equity\, and Inclusion\, and Disability and Access Services.
URL:https://doingwell.mit.edu/event/disability-visibility-can-you-see-us-now/
LOCATION:3-270 and online
ATTACH;FMTTYPE=image/png:https://doingwell.mit.edu/wp-content/uploads/2023/10/WXGS-Logo-e1698683694298.png
ORGANIZER;CN="MIT Reads":MAILTO:wxgs@mit.edu
END:VEVENT
BEGIN:VEVENT
DTSTART;TZID=UTC:20231117T000000
DTEND;TZID=UTC:20231201T235959
DTSTAMP:20260422T234531
CREATED:20220207T193129Z
LAST-MODIFIED:20220207T193130Z
UID:10002918-1700179200-1701475199@doingwell.mit.edu
SUMMARY:Virtual 5K Run/Walk Training Program
DESCRIPTION:Does your exercise routine need a jump start? Join getfit and MIT Recreation for a virtual 5K run/walk training program open to the entire MIT community.\nWe have eight weeks of fun activities and challenges planned to get you ready to run or walk the virtual 5K. \nTraining starts on Tuesday\, February 22\, 2022 and the virtual 5K takes place April 11 – 24.
URL:https://doingwell.mit.edu/event/virtual-5k-run-walk-training-program/2023-11-17/
LOCATION:Massachusetts
ATTACH;FMTTYPE=image/png:https://doingwell.mit.edu/wp-content/uploads/2022/02/getfit-5K-IG.png
ORGANIZER;CN="MIT Health Community Wellness":MAILTO:wellness@med.mit.edu
END:VEVENT
BEGIN:VEVENT
DTSTART;TZID=America/New_York:20231117T103000
DTEND;TZID=America/New_York:20231117T180000
DTSTAMP:20260422T234531
CREATED:20231026T151619Z
LAST-MODIFIED:20231026T151622Z
UID:10003731-1700217000-1700244000@doingwell.mit.edu
SUMMARY:Craft Day: Painting Day
DESCRIPTION:Let your creative juices flow and join us at our drop in craft table! ??️ Whether you’re an artistic pro or just looking to have some fun\, we’ve got all the supplies you’ll need to paint the day away. ?✨ Don’t miss out on this colorful experience! ? #CraftyVibes #ArtisticEscape #PaintTheDayAway
URL:https://doingwell.mit.edu/event/craft-day-painting-day/
LOCATION:Rainbow Lounge 50-250\, 142 Memorial Drive\, Cambridge\, MA\, United States
ATTACH;FMTTYPE=image/webp:https://doingwell.mit.edu/wp-content/uploads/2023/10/paint-e1698333357116.webp
END:VEVENT
BEGIN:VEVENT
DTSTART;TZID=UTC:20231118T000000
DTEND;TZID=UTC:20231202T235959
DTSTAMP:20260422T234531
CREATED:20220207T193129Z
LAST-MODIFIED:20220207T193130Z
UID:10002919-1700265600-1701561599@doingwell.mit.edu
SUMMARY:Virtual 5K Run/Walk Training Program
DESCRIPTION:Does your exercise routine need a jump start? Join getfit and MIT Recreation for a virtual 5K run/walk training program open to the entire MIT community.\nWe have eight weeks of fun activities and challenges planned to get you ready to run or walk the virtual 5K. \nTraining starts on Tuesday\, February 22\, 2022 and the virtual 5K takes place April 11 – 24.
URL:https://doingwell.mit.edu/event/virtual-5k-run-walk-training-program/2023-11-18/
LOCATION:Massachusetts
ATTACH;FMTTYPE=image/png:https://doingwell.mit.edu/wp-content/uploads/2022/02/getfit-5K-IG.png
ORGANIZER;CN="MIT Health Community Wellness":MAILTO:wellness@med.mit.edu
END:VEVENT
BEGIN:VEVENT
DTSTART;TZID=UTC:20231119T000000
DTEND;TZID=UTC:20231203T235959
DTSTAMP:20260422T234531
CREATED:20220207T193129Z
LAST-MODIFIED:20220207T193130Z
UID:10002920-1700352000-1701647999@doingwell.mit.edu
SUMMARY:Virtual 5K Run/Walk Training Program
DESCRIPTION:Does your exercise routine need a jump start? Join getfit and MIT Recreation for a virtual 5K run/walk training program open to the entire MIT community.\nWe have eight weeks of fun activities and challenges planned to get you ready to run or walk the virtual 5K. \nTraining starts on Tuesday\, February 22\, 2022 and the virtual 5K takes place April 11 – 24.
URL:https://doingwell.mit.edu/event/virtual-5k-run-walk-training-program/2023-11-19/
LOCATION:Massachusetts
ATTACH;FMTTYPE=image/png:https://doingwell.mit.edu/wp-content/uploads/2022/02/getfit-5K-IG.png
ORGANIZER;CN="MIT Health Community Wellness":MAILTO:wellness@med.mit.edu
END:VEVENT
BEGIN:VEVENT
DTSTART;TZID=UTC:20231120T000000
DTEND;TZID=UTC:20231204T235959
DTSTAMP:20260422T234531
CREATED:20220207T193129Z
LAST-MODIFIED:20220207T193130Z
UID:10002921-1700438400-1701734399@doingwell.mit.edu
SUMMARY:Virtual 5K Run/Walk Training Program
DESCRIPTION:Does your exercise routine need a jump start? Join getfit and MIT Recreation for a virtual 5K run/walk training program open to the entire MIT community.\nWe have eight weeks of fun activities and challenges planned to get you ready to run or walk the virtual 5K. \nTraining starts on Tuesday\, February 22\, 2022 and the virtual 5K takes place April 11 – 24.
URL:https://doingwell.mit.edu/event/virtual-5k-run-walk-training-program/2023-11-20/
LOCATION:Massachusetts
ATTACH;FMTTYPE=image/png:https://doingwell.mit.edu/wp-content/uploads/2022/02/getfit-5K-IG.png
ORGANIZER;CN="MIT Health Community Wellness":MAILTO:wellness@med.mit.edu
END:VEVENT
BEGIN:VEVENT
DTSTART;TZID=America/New_York:20231120T120000
DTEND;TZID=America/New_York:20231120T130000
DTSTAMP:20260422T234531
CREATED:20230928T193212Z
LAST-MODIFIED:20230928T193217Z
UID:10003237-1700481600-1700485200@doingwell.mit.edu
SUMMARY:Transgender Day of Remembrance
DESCRIPTION:In collaboration with LBGTQ+ Services and the Office of Religious\, Spiritual\, and Ethical Life\, a vigil will be held in the MIT Chapel in honor of Trans Day of Remembrance. All are welcome to attend.
URL:https://doingwell.mit.edu/event/transgender-day-of-remembrance/
LOCATION:MIT Chapel (W15)\, 48 Massachusetts Ave\, Cambridge\, MA 02139\, Cambridge\, Massachusetts\, 02139
ATTACH;FMTTYPE=image/jpeg:https://doingwell.mit.edu/wp-content/uploads/2023/09/TDOR-image-scaled-1.jpg
END:VEVENT
BEGIN:VEVENT
DTSTART;TZID=UTC:20231121T000000
DTEND;TZID=UTC:20231205T235959
DTSTAMP:20260422T234531
CREATED:20220207T193129Z
LAST-MODIFIED:20220207T193130Z
UID:10002922-1700524800-1701820799@doingwell.mit.edu
SUMMARY:Virtual 5K Run/Walk Training Program
DESCRIPTION:Does your exercise routine need a jump start? Join getfit and MIT Recreation for a virtual 5K run/walk training program open to the entire MIT community.\nWe have eight weeks of fun activities and challenges planned to get you ready to run or walk the virtual 5K. \nTraining starts on Tuesday\, February 22\, 2022 and the virtual 5K takes place April 11 – 24.
URL:https://doingwell.mit.edu/event/virtual-5k-run-walk-training-program/2023-11-21/
LOCATION:Massachusetts
ATTACH;FMTTYPE=image/png:https://doingwell.mit.edu/wp-content/uploads/2022/02/getfit-5K-IG.png
ORGANIZER;CN="MIT Health Community Wellness":MAILTO:wellness@med.mit.edu
END:VEVENT
BEGIN:VEVENT
DTSTART;TZID=UTC:20231122T000000
DTEND;TZID=UTC:20231206T235959
DTSTAMP:20260422T234531
CREATED:20220207T193129Z
LAST-MODIFIED:20220207T193130Z
UID:10002923-1700611200-1701907199@doingwell.mit.edu
SUMMARY:Virtual 5K Run/Walk Training Program
DESCRIPTION:Does your exercise routine need a jump start? Join getfit and MIT Recreation for a virtual 5K run/walk training program open to the entire MIT community.\nWe have eight weeks of fun activities and challenges planned to get you ready to run or walk the virtual 5K. \nTraining starts on Tuesday\, February 22\, 2022 and the virtual 5K takes place April 11 – 24.
URL:https://doingwell.mit.edu/event/virtual-5k-run-walk-training-program/2023-11-22/
LOCATION:Massachusetts
ATTACH;FMTTYPE=image/png:https://doingwell.mit.edu/wp-content/uploads/2022/02/getfit-5K-IG.png
ORGANIZER;CN="MIT Health Community Wellness":MAILTO:wellness@med.mit.edu
END:VEVENT
BEGIN:VEVENT
DTSTART;TZID=UTC:20231123T000000
DTEND;TZID=UTC:20231207T235959
DTSTAMP:20260422T234531
CREATED:20220207T193129Z
LAST-MODIFIED:20220207T193130Z
UID:10002924-1700697600-1701993599@doingwell.mit.edu
SUMMARY:Virtual 5K Run/Walk Training Program
DESCRIPTION:Does your exercise routine need a jump start? Join getfit and MIT Recreation for a virtual 5K run/walk training program open to the entire MIT community.\nWe have eight weeks of fun activities and challenges planned to get you ready to run or walk the virtual 5K. \nTraining starts on Tuesday\, February 22\, 2022 and the virtual 5K takes place April 11 – 24.
URL:https://doingwell.mit.edu/event/virtual-5k-run-walk-training-program/2023-11-23/
LOCATION:Massachusetts
ATTACH;FMTTYPE=image/png:https://doingwell.mit.edu/wp-content/uploads/2022/02/getfit-5K-IG.png
ORGANIZER;CN="MIT Health Community Wellness":MAILTO:wellness@med.mit.edu
END:VEVENT
END:VCALENDAR