BEGIN:VCALENDAR
VERSION:2.0
PRODID:-//DoingWell At MIT - ECPv6.15.20//NONSGML v1.0//EN
CALSCALE:GREGORIAN
METHOD:PUBLISH
X-WR-CALNAME:DoingWell At MIT
X-ORIGINAL-URL:https://doingwell.mit.edu
X-WR-CALDESC:Events for DoingWell At MIT
REFRESH-INTERVAL;VALUE=DURATION:PT1H
X-Robots-Tag:noindex
X-PUBLISHED-TTL:PT1H
BEGIN:VTIMEZONE
TZID:America/New_York
BEGIN:DAYLIGHT
TZOFFSETFROM:-0500
TZOFFSETTO:-0400
TZNAME:EDT
DTSTART:20230312T070000
END:DAYLIGHT
BEGIN:STANDARD
TZOFFSETFROM:-0400
TZOFFSETTO:-0500
TZNAME:EST
DTSTART:20231105T060000
END:STANDARD
BEGIN:DAYLIGHT
TZOFFSETFROM:-0500
TZOFFSETTO:-0400
TZNAME:EDT
DTSTART:20240310T070000
END:DAYLIGHT
BEGIN:STANDARD
TZOFFSETFROM:-0400
TZOFFSETTO:-0500
TZNAME:EST
DTSTART:20241103T060000
END:STANDARD
BEGIN:DAYLIGHT
TZOFFSETFROM:-0500
TZOFFSETTO:-0400
TZNAME:EDT
DTSTART:20250309T070000
END:DAYLIGHT
BEGIN:STANDARD
TZOFFSETFROM:-0400
TZOFFSETTO:-0500
TZNAME:EST
DTSTART:20251102T060000
END:STANDARD
END:VTIMEZONE
BEGIN:VEVENT
DTSTART;TZID=America/New_York:20241004T210000
DTEND;TZID=America/New_York:20241004T230000
DTSTAMP:20260422T194214
CREATED:20240927T190539Z
LAST-MODIFIED:20240927T190544Z
UID:10003882-1728075600-1728082800@doingwell.mit.edu
SUMMARY:Waffle Night
DESCRIPTION:SaveTFP Presents… Waffle Night! \nJoin us this Friday from 9:00 PM to 11:00 PM (or while supplies last) in the Wellbeing Lab (Stud 3) for Zinneken’s!
URL:https://doingwell.mit.edu/event/waffle-night-2/
LOCATION:Wellbeing Lab
CATEGORIES:Wellbeing Lab
ATTACH;FMTTYPE=image/png:https://doingwell.mit.edu/wp-content/uploads/2024/09/Waffle-Night-US-Letter-e1727463895468.png
END:VEVENT
END:VCALENDAR