BEGIN:VCALENDAR
VERSION:2.0
PRODID:-//DoingWell At MIT - ECPv6.15.20//NONSGML v1.0//EN
CALSCALE:GREGORIAN
METHOD:PUBLISH
X-WR-CALNAME:DoingWell At MIT
X-ORIGINAL-URL:https://doingwell.mit.edu
X-WR-CALDESC:Events for DoingWell At MIT
REFRESH-INTERVAL;VALUE=DURATION:PT1H
X-Robots-Tag:noindex
X-PUBLISHED-TTL:PT1H
BEGIN:VTIMEZONE
TZID:America/New_York
BEGIN:DAYLIGHT
TZOFFSETFROM:-0500
TZOFFSETTO:-0400
TZNAME:EDT
DTSTART:20250309T070000
END:DAYLIGHT
BEGIN:STANDARD
TZOFFSETFROM:-0400
TZOFFSETTO:-0500
TZNAME:EST
DTSTART:20251102T060000
END:STANDARD
BEGIN:DAYLIGHT
TZOFFSETFROM:-0500
TZOFFSETTO:-0400
TZNAME:EDT
DTSTART:20260308T070000
END:DAYLIGHT
BEGIN:STANDARD
TZOFFSETFROM:-0400
TZOFFSETTO:-0500
TZNAME:EST
DTSTART:20261101T060000
END:STANDARD
BEGIN:DAYLIGHT
TZOFFSETFROM:-0500
TZOFFSETTO:-0400
TZNAME:EDT
DTSTART:20270314T070000
END:DAYLIGHT
BEGIN:STANDARD
TZOFFSETFROM:-0400
TZOFFSETTO:-0500
TZNAME:EST
DTSTART:20271107T060000
END:STANDARD
END:VTIMEZONE
BEGIN:VEVENT
DTSTART;TZID=America/New_York:20260221T210000
DTEND;TZID=America/New_York:20260221T230000
DTSTAMP:20260424T103129
CREATED:20260209T180549Z
LAST-MODIFIED:20260209T180552Z
UID:10004975-1771707600-1771714800@doingwell.mit.edu
SUMMARY:Flower Arranging with the LCC
DESCRIPTION:Come to the Wellbeing Lab on Saturday\, February 21st from 9-11pm for a night a flower arranging (with real flowers!) and to enjoy some delicious brazilian coxinhas!
URL:https://doingwell.mit.edu/event/flower-arranging-with-the-lcc/
LOCATION:Wellbeing Lab\, 84 Massachusetts Avenue\, 3rd Floor\, Cambridge\, Massachusetts\, 02139\, United States
CATEGORIES:Wellbeing Lab
ATTACH;FMTTYPE=image/jpeg:https://doingwell.mit.edu/wp-content/uploads/2026/02/IMG_1030-e1770660215457.jpeg
END:VEVENT
BEGIN:VEVENT
DTSTART;TZID=America/New_York:20260225T120000
DTEND;TZID=America/New_York:20260225T130000
DTSTAMP:20260424T103129
CREATED:20260205T183709Z
LAST-MODIFIED:20260205T183711Z
UID:10004973-1772020800-1772024400@doingwell.mit.edu
SUMMARY:AI-dea Hour: How should we use AI in the classroom?
DESCRIPTION:Join Radius for an informal lunchtime discussion on the role of AI in the classroom and its impact on your experience at MIT. Open to faculty\, students\, and staff alike from all perspectives of the AI spectrum! \nThis event follows our successful AI-dea Hour in the fall semester and will inform the design of a more public event in April. Please join us whether you are new to Radius or not! \nPlease RSVP to secure your meal: https://forms.gle/Hgw9JVv4KgHwJLvD6
URL:https://doingwell.mit.edu/event/ai-dea-hour-how-should-we-use-ai-in-the-classroom-2/
LOCATION:Wellbeing Lab\, 84 Massachusetts Avenue\, 3rd Floor\, Cambridge\, Massachusetts\, 02139\, United States
CATEGORIES:Wellbeing Lab
ATTACH;FMTTYPE=image/jpeg:https://doingwell.mit.edu/wp-content/uploads/2026/02/AI-dea-Hour-Feb-2026-digital.jpeg
ORGANIZER;CN="MIT Radius":MAILTO:slall@mit.edu
END:VEVENT
BEGIN:VEVENT
DTSTART;TZID=America/New_York:20260227T210000
DTEND;TZID=America/New_York:20260227T230000
DTSTAMP:20260424T103129
CREATED:20260220T192142Z
LAST-MODIFIED:20260220T192145Z
UID:10004984-1772226000-1772233200@doingwell.mit.edu
SUMMARY:Coloring Book & Pupusa Night
DESCRIPTION:Destress by coloring books with your friends while eating delicious Salvadorian pupusas!
URL:https://doingwell.mit.edu/event/coloring-book-pupusa-night/
LOCATION:Wellbeing Lab\, 84 Massachusetts Avenue\, 3rd Floor\, Cambridge\, Massachusetts\, 02139\, United States
CATEGORIES:Wellbeing Lab
ATTACH;FMTTYPE=image/png:https://doingwell.mit.edu/wp-content/uploads/2026/02/2.27.26-Pupusas-and-Coloring-Books-8.5x11-flyer-1-e1771615262828.png
END:VEVENT
BEGIN:VEVENT
DTSTART;TZID=America/New_York:20260303T123000
DTEND;TZID=America/New_York:20260303T133000
DTSTAMP:20260424T103129
CREATED:20260219T213227Z
LAST-MODIFIED:20260226T164711Z
UID:10004981-1772541000-1772544600@doingwell.mit.edu
SUMMARY:Eating Good with SFS
DESCRIPTION:Our goal? Help students find local and diverse foods at an affordable price\, while talking about financial wellbeing and building community! \nMarch’s theme: halfway through the semester: how to finish out financially strong! \nYou MUST RSVP using this form to attend.
URL:https://doingwell.mit.edu/event/eating-good/
LOCATION:Wellbeing Lab\, 84 Massachusetts Avenue\, 3rd Floor\, Cambridge\, Massachusetts\, 02139\, United States
CATEGORIES:Wellbeing Lab
ATTACH;FMTTYPE=image/jpeg:https://doingwell.mit.edu/wp-content/uploads/2026/02/March-2026-scaled-e1774359961754.jpg
ORGANIZER;CN="Student Financial Services":MAILTO:sfs-fin-ed@mit.edu
END:VEVENT
BEGIN:VEVENT
DTSTART;TZID=America/New_York:20260306T210000
DTEND;TZID=America/New_York:20260306T230000
DTSTAMP:20260424T103129
CREATED:20260303T160810Z
LAST-MODIFIED:20260303T160817Z
UID:10004991-1772830800-1772838000@doingwell.mit.edu
SUMMARY:Weekends@MIT Craft Night
DESCRIPTION:Join Weekends@MIT for a crafting event (scrapbooking\, altoid tin decoration\, stamps\, etc.) with candy!
URL:https://doingwell.mit.edu/event/weekendsmit-craft-night/
LOCATION:Wellbeing Lab\, 84 Massachusetts Avenue\, 3rd Floor\, Cambridge\, Massachusetts\, 02139\, United States
CATEGORIES:Wellbeing Lab
ATTACH;FMTTYPE=image/png:https://doingwell.mit.edu/wp-content/uploads/2026/03/Weekends-@-MIT_insta-e1772554040722.png
END:VEVENT
BEGIN:VEVENT
DTSTART;TZID=America/New_York:20260307T170000
DTEND;TZID=America/New_York:20260307T190000
DTSTAMP:20260424T103129
CREATED:20260303T161210Z
LAST-MODIFIED:20260303T161213Z
UID:10004992-1772902800-1772910000@doingwell.mit.edu
SUMMARY:ISA - Spread the Colors
DESCRIPTION:Are you craving delicious food? Are your psets draining your creativity? Join the International Students Association (ISA) for ? Spread the Colors ?\, a fun gathering with painting and charcuterie!  \n? Location: Wellbeing Lab\n? Date: March 7 (Saturday)\n⏰ Time: 5:00-7:00 pm \nWe’ll have painting supplies ready and a delicious selection of charcuterie items. Bring your friends\, your creativity\, and your appetite (just don’t eat the paint)!\nSee you there!\nISA exec
URL:https://doingwell.mit.edu/event/isa-spread-the-colors/
LOCATION:Wellbeing Lab\, 84 Massachusetts Avenue\, 3rd Floor\, Cambridge\, Massachusetts\, 02139\, United States
CATEGORIES:Wellbeing Lab
ATTACH;FMTTYPE=image/png:https://doingwell.mit.edu/wp-content/uploads/2026/03/spread_the_colors-scaled-e1772554155360.png
END:VEVENT
BEGIN:VEVENT
DTSTART;TZID=America/New_York:20260307T210000
DTEND;TZID=America/New_York:20260307T230000
DTSTAMP:20260424T103129
CREATED:20260224T174139Z
LAST-MODIFIED:20260224T174150Z
UID:10004989-1772917200-1772924400@doingwell.mit.edu
SUMMARY:Design Hanboks + Triangle Kimbap with KCA
DESCRIPTION:Happy (late) Lunar New Year! Come create origami Hanboks and triangle kimbaps with KCA!
URL:https://doingwell.mit.edu/event/design-hanboks-triangle-kimbap-with-kca/
LOCATION:Wellbeing Lab\, 84 Massachusetts Avenue\, 3rd Floor\, Cambridge\, Massachusetts\, 02139\, United States
CATEGORIES:Wellbeing Lab
ATTACH;FMTTYPE=image/png:https://doingwell.mit.edu/wp-content/uploads/2026/02/KCA-Wellbeing-37-8.5x11-e1771954801926.png
END:VEVENT
BEGIN:VEVENT
DTSTART;TZID=America/New_York:20260310T150000
DTEND;TZID=America/New_York:20260310T170000
DTSTAMP:20260424T103129
CREATED:20260306T214540Z
LAST-MODIFIED:20260310T155050Z
UID:10005011-1773154800-1773162000@doingwell.mit.edu
SUMMARY:Special Edition Puppy Lab
DESCRIPTION:A bonus puppy lab for RAK week!
URL:https://doingwell.mit.edu/event/special-edition-puppy-lab/
LOCATION:Wellbeing Lab\, 84 Massachusetts Avenue\, 3rd Floor\, Cambridge\, Massachusetts\, 02139\, United States
CATEGORIES:Wellbeing Lab
ATTACH;FMTTYPE=image/png:https://doingwell.mit.edu/wp-content/uploads/2026/03/RAKS-with-Wellbeing-and-Belonging-1-e1772830116550.png
END:VEVENT
BEGIN:VEVENT
DTSTART;TZID=America/New_York:20260311T120000
DTEND;TZID=America/New_York:20260311T133000
DTSTAMP:20260424T103129
CREATED:20260306T212445Z
LAST-MODIFIED:20260306T212448Z
UID:10005010-1773230400-1773235800@doingwell.mit.edu
SUMMARY:Spring into Wellbeing
DESCRIPTION:Join Wellbeing and Belonging along with VPR in the Wellbeing Lab to make some wellness kits! Come make some new friends and take a break!
URL:https://doingwell.mit.edu/event/spring-into-wellbeing/
LOCATION:Wellbeing Lab\, 84 Massachusetts Avenue\, 3rd Floor\, Cambridge\, Massachusetts\, 02139\, United States
CATEGORIES:Wellbeing Lab
ATTACH;FMTTYPE=image/png:https://doingwell.mit.edu/wp-content/uploads/2026/03/36591760-AFA6-4883-A68D-793D0BCF5D25-e1772832243690.png
END:VEVENT
BEGIN:VEVENT
DTSTART;TZID=America/New_York:20260311T150000
DTEND;TZID=America/New_York:20260311T170000
DTSTAMP:20260424T103129
CREATED:20260310T145503Z
LAST-MODIFIED:20260310T145803Z
UID:10005023-1773241200-1773248400@doingwell.mit.edu
SUMMARY:Wellbeing Wednesdays
DESCRIPTION:MIT Recreation and the Wellbeing Lab present:  Wellbeing Wednesdays.  This event will feature chair massage\, nutrition lecture\, and an MIT Rec information desk to answer your questions.   Drop in at any point during the session!
URL:https://doingwell.mit.edu/event/wellbeing-wednesdays/2026-03-11/
LOCATION:Wellbeing Lab\, 84 Massachusetts Avenue\, 3rd Floor\, Cambridge\, Massachusetts\, 02139\, United States
CATEGORIES:Wellbeing Lab
ATTACH;FMTTYPE=image/png:https://doingwell.mit.edu/wp-content/uploads/2026/03/Spring-Wellbeing-Lab-Instagram-Post-45-e1773154488249.png
ORGANIZER;CN="MIT Recreation":MAILTO:Rothbart@mit.edu
END:VEVENT
BEGIN:VEVENT
DTSTART;TZID=America/New_York:20260313T210000
DTEND;TZID=America/New_York:20260313T230000
DTSTAMP:20260424T103129
CREATED:20260310T150251Z
LAST-MODIFIED:20260310T150253Z
UID:10005025-1773435600-1773442800@doingwell.mit.edu
SUMMARY:Matcha Night
DESCRIPTION:Come celebrate (almost) spring with a cup of matcha!
URL:https://doingwell.mit.edu/event/matcha-night/
LOCATION:Wellbeing Lab\, 84 Massachusetts Avenue\, 3rd Floor\, Cambridge\, Massachusetts\, 02139\, United States
CATEGORIES:Wellbeing Lab
ATTACH;FMTTYPE=image/png:https://doingwell.mit.edu/wp-content/uploads/2026/03/Matcha-Night-Flyer-e1773154936729.png
END:VEVENT
BEGIN:VEVENT
DTSTART;TZID=America/New_York:20260314T210000
DTEND;TZID=America/New_York:20260314T230000
DTSTAMP:20260424T103129
CREATED:20260302T194132Z
LAST-MODIFIED:20260302T194135Z
UID:10004990-1773522000-1773529200@doingwell.mit.edu
SUMMARY:MIT Bhangra Workshop
DESCRIPTION:Come learn about the MIT Bhangra team and let us teach you some bhangra basics! Bhangra is a dance that originated in Punjab\, India and is a traditional and very energetic dance style. Food and drinks will be provided\, and we hope to see you there!
URL:https://doingwell.mit.edu/event/mit-bhangra-workshop/
LOCATION:Wellbeing Lab\, 84 Massachusetts Avenue\, 3rd Floor\, Cambridge\, Massachusetts\, 02139\, United States
CATEGORIES:Wellbeing Lab
ATTACH;FMTTYPE=image/png:https://doingwell.mit.edu/wp-content/uploads/2026/03/Wellbeing-Lab-flyer-e1772480435861.png
ORGANIZER;CN="MIT Bhangra":MAILTO:bhangra-exec@mit.edu
END:VEVENT
BEGIN:VEVENT
DTSTART;TZID=America/New_York:20260401T150000
DTEND;TZID=America/New_York:20260401T170000
DTSTAMP:20260424T103129
CREATED:20260310T145503Z
LAST-MODIFIED:20260310T145803Z
UID:10005026-1775055600-1775062800@doingwell.mit.edu
SUMMARY:Wellbeing Wednesdays
DESCRIPTION:MIT Recreation and the Wellbeing Lab present:  Wellbeing Wednesdays.  This event will feature chair massage\, nutrition lecture\, and an MIT Rec information desk to answer your questions.   Drop in at any point during the session!
URL:https://doingwell.mit.edu/event/wellbeing-wednesdays/2026-04-01/
LOCATION:Wellbeing Lab\, 84 Massachusetts Avenue\, 3rd Floor\, Cambridge\, Massachusetts\, 02139\, United States
CATEGORIES:Wellbeing Lab
ATTACH;FMTTYPE=image/png:https://doingwell.mit.edu/wp-content/uploads/2026/03/Spring-Wellbeing-Lab-Instagram-Post-45-e1773154488249.png
ORGANIZER;CN="MIT Recreation":MAILTO:Rothbart@mit.edu
END:VEVENT
BEGIN:VEVENT
DTSTART;TZID=America/New_York:20260404T210000
DTEND;TZID=America/New_York:20260404T230000
DTSTAMP:20260424T103129
CREATED:20260330T151519Z
LAST-MODIFIED:20260330T151521Z
UID:10005042-1775336400-1775343600@doingwell.mit.edu
SUMMARY:Grad MSA Art Night
DESCRIPTION:Join the Graduate Muslim Student association for cross stitch\, paint by numbers\, lego building and Boba!
URL:https://doingwell.mit.edu/event/grad-msa-art-night/
LOCATION:Wellbeing Lab\, 84 Massachusetts Avenue\, 3rd Floor\, Cambridge\, Massachusetts\, 02139\, United States
CATEGORIES:Wellbeing Lab
ATTACH;FMTTYPE=image/png:https://doingwell.mit.edu/wp-content/uploads/2026/03/art_night_poster_8.5x11-scaled-e1774883669285.png
END:VEVENT
BEGIN:VEVENT
DTSTART;TZID=America/New_York:20260410T210000
DTEND;TZID=America/New_York:20260410T230000
DTSTAMP:20260424T103129
CREATED:20260324T135850Z
LAST-MODIFIED:20260324T135851Z
UID:10005031-1775854800-1775862000@doingwell.mit.edu
SUMMARY:Bob Ross Night
DESCRIPTION:Paint a tote bag and canvases to your heart’s content while enjoying some yummy crepes!
URL:https://doingwell.mit.edu/event/bob-ross-night-2/
LOCATION:Wellbeing Lab\, 84 Massachusetts Avenue\, 3rd Floor\, Cambridge\, Massachusetts\, 02139\, United States
CATEGORIES:Wellbeing Lab
ATTACH;FMTTYPE=image/webp:https://doingwell.mit.edu/wp-content/uploads/2026/03/bob-ross-painting-e1774360702882.webp
END:VEVENT
BEGIN:VEVENT
DTSTART;TZID=America/New_York:20260411T210000
DTEND;TZID=America/New_York:20260411T230000
DTSTAMP:20260424T103129
CREATED:20260408T145825Z
LAST-MODIFIED:20260408T145826Z
UID:10005049-1775941200-1775948400@doingwell.mit.edu
SUMMARY:SEB Crafts Night!
DESCRIPTION:We are kicking off another SpringFest season with some crafts\, food\, and drinks while enjoying the SEB SpringFest playlist. On Saturday\, April 11th from 9 PM – 11 PM\, the event will feature painting decorative vinyls\, making friendship bracelets\, coloring\, and a photo wall to capture lasting memories! \nBe there or be square!
URL:https://doingwell.mit.edu/event/seb-crafts-night/
LOCATION:Wellbeing Lab\, 84 Massachusetts Avenue\, 3rd Floor\, Cambridge\, Massachusetts\, 02139\, United States
CATEGORIES:Wellbeing Lab
ATTACH;FMTTYPE=image/png:https://doingwell.mit.edu/wp-content/uploads/2026/04/SEB-Craft-Night-Flyer-e1775660253173.png
ORGANIZER;CN="Student Events Board":MAILTO:student-events@mit.edu
END:VEVENT
BEGIN:VEVENT
DTSTART;TZID=America/New_York:20260417T210000
DTEND;TZID=America/New_York:20260417T230000
DTSTAMP:20260424T103129
CREATED:20260409T184149Z
LAST-MODIFIED:20260409T184224Z
UID:10005050-1776459600-1776466800@doingwell.mit.edu
SUMMARY:Waffle Night
DESCRIPTION:Join Weekends@MIT in the Wellbeing Lab for free Zinneken’s waffles\, lots of toppings (e.g. whipped cream\, strawberries\, blueberries\, M&M’s\, syrup\, chocolate syrup\, chocolate chips\, possibly sprinkles) from 9-11PM on April 17th!
URL:https://doingwell.mit.edu/event/waffle-night-5/
LOCATION:Wellbeing Lab\, 84 Massachusetts Avenue\, 3rd Floor\, Cambridge\, Massachusetts\, 02139\, United States
CATEGORIES:Wellbeing Lab
ATTACH;FMTTYPE=image/png:https://doingwell.mit.edu/wp-content/uploads/2026/04/WaffleNight4.17Post-e1775760138864.png
END:VEVENT
BEGIN:VEVENT
DTSTART;TZID=America/New_York:20260418T210000
DTEND;TZID=America/New_York:20260418T230000
DTSTAMP:20260424T103129
CREATED:20260406T192856Z
LAST-MODIFIED:20260406T192857Z
UID:10005046-1776546000-1776553200@doingwell.mit.edu
SUMMARY:¡Karaoke! with the Latin Music Society
DESCRIPTION:Do you like karaoke!? Do you like latin music!? Do you want to learn about and meet students in latin music ensembles at MIT\, such as Mariachi Infinito or Río Charles Social Club!? \nCome to the Wellbeing Lab (STUD/W20-308\, 3rd Floor)\, 9-11pm on Saturday\, April18th\, and get ready to sing your heart out! (And yes\, there is free food!!!)
URL:https://doingwell.mit.edu/event/karaoke-with-the-latin-music-society/
LOCATION:Wellbeing Lab\, 84 Massachusetts Avenue\, 3rd Floor\, Cambridge\, Massachusetts\, 02139\, United States
CATEGORIES:Wellbeing Lab
ATTACH;FMTTYPE=image/png:https://doingwell.mit.edu/wp-content/uploads/2026/04/LMS_Karaoke_8.5x11-e1775503716374.png
ORGANIZER;CN="Latin Music Society":MAILTO:lms-exec@mit.edu
END:VEVENT
BEGIN:VEVENT
DTSTART;TZID=America/New_York:20260422T170000
DTEND;TZID=America/New_York:20260422T190000
DTSTAMP:20260424T103129
CREATED:20260413T145220Z
LAST-MODIFIED:20260413T145222Z
UID:10005052-1776877200-1776884400@doingwell.mit.edu
SUMMARY:Chipotle Study Break
DESCRIPTION:Stressed with midterms? Come grab free Chipotle and take a break.\nHosted by the Assistive Technology Club\, this is a low-key space to relax\, recharge\, or keep working. Stop by anytime from 5–7 PM at the Wellbeing Lab in Stud.
URL:https://doingwell.mit.edu/event/chipotle-study-break/
LOCATION:Wellbeing Lab\, 84 Massachusetts Avenue\, 3rd Floor\, Cambridge\, Massachusetts\, 02139\, United States
CATEGORIES:Wellbeing Lab
ATTACH;FMTTYPE=image/png:https://doingwell.mit.edu/wp-content/uploads/2026/04/AT-Study-Break-Flyer-e1776091865170.png
END:VEVENT
BEGIN:VEVENT
DTSTART;TZID=America/New_York:20260424T210000
DTEND;TZID=America/New_York:20260424T230000
DTSTAMP:20260424T103129
CREATED:20260422T171719Z
LAST-MODIFIED:20260422T171722Z
UID:10005055-1777064400-1777071600@doingwell.mit.edu
SUMMARY:Decoden and Boba Night
DESCRIPTION:Make cute decoden charms and sip boba from Ten One this Friday!
URL:https://doingwell.mit.edu/event/decoden-and-boba-night/
LOCATION:Wellbeing Lab\, 84 Massachusetts Avenue\, 3rd Floor\, Cambridge\, Massachusetts\, 02139\, United States
CATEGORIES:Wellbeing Lab
ATTACH;FMTTYPE=image/png:https://doingwell.mit.edu/wp-content/uploads/2026/04/Copy-of-decoden-e1776878223559.png
END:VEVENT
BEGIN:VEVENT
DTSTART;TZID=America/New_York:20260427T163000
DTEND;TZID=America/New_York:20260427T180000
DTSTAMP:20260424T103129
CREATED:20260422T171832Z
LAST-MODIFIED:20260422T171834Z
UID:10005054-1777307400-1777312800@doingwell.mit.edu
SUMMARY:The Power of Self Reflection
DESCRIPTION:Join the Wellbeing Ambassadors for a workshop on the benefits of self reflection. Learn more about the science behind reflection and our well-being\, and leave with your own journal toolkit!  \n**free and open to all students!
URL:https://doingwell.mit.edu/event/the-power-of-self-reflection/
LOCATION:Wellbeing Lab\, 84 Massachusetts Avenue\, 3rd Floor\, Cambridge\, Massachusetts\, 02139\, United States
CATEGORIES:Wellbeing Lab
ATTACH;FMTTYPE=image/png:https://doingwell.mit.edu/wp-content/uploads/2026/04/The-Power-of-Self-Reflection-Time-e1776878274476.png
END:VEVENT
BEGIN:VEVENT
DTSTART;TZID=America/New_York:20260501T123000
DTEND;TZID=America/New_York:20260501T143000
DTSTAMP:20260424T103129
CREATED:20260422T171947Z
LAST-MODIFIED:20260422T171949Z
UID:10005053-1777638600-1777645800@doingwell.mit.edu
SUMMARY:Wellbeing Fair
DESCRIPTION:The Wellbeing Ambassadors present the Wellbeing Fair! Stop by the Mezzanine Lounge (Stud 3) from 12:30-2:30pm on Friday May 1st to relax before finals with an acai bowl. Drop in\, pick up your wellbeing passport\, and win prizes along the way!
URL:https://doingwell.mit.edu/event/wellbeing-fair-5/
LOCATION:Wellbeing Lab\, 84 Massachusetts Avenue\, 3rd Floor\, Cambridge\, Massachusetts\, 02139\, United States
CATEGORIES:Wellbeing Lab
ATTACH;FMTTYPE=image/png:https://doingwell.mit.edu/wp-content/uploads/2026/04/Wellbeing-Fair-Real-Estate-Flyer-e1776878350231.png
END:VEVENT
BEGIN:VEVENT
DTSTART;TZID=America/New_York:20260513T150000
DTEND;TZID=America/New_York:20260513T170000
DTSTAMP:20260424T103129
CREATED:20260310T145503Z
LAST-MODIFIED:20260310T145803Z
UID:10005028-1778684400-1778691600@doingwell.mit.edu
SUMMARY:Wellbeing Wednesdays
DESCRIPTION:MIT Recreation and the Wellbeing Lab present:  Wellbeing Wednesdays.  This event will feature chair massage\, nutrition lecture\, and an MIT Rec information desk to answer your questions.   Drop in at any point during the session!
URL:https://doingwell.mit.edu/event/wellbeing-wednesdays/2026-05-13/
LOCATION:Wellbeing Lab\, 84 Massachusetts Avenue\, 3rd Floor\, Cambridge\, Massachusetts\, 02139\, United States
CATEGORIES:Wellbeing Lab
ATTACH;FMTTYPE=image/png:https://doingwell.mit.edu/wp-content/uploads/2026/03/Spring-Wellbeing-Lab-Instagram-Post-45-e1773154488249.png
ORGANIZER;CN="MIT Recreation":MAILTO:Rothbart@mit.edu
END:VEVENT
END:VCALENDAR