BEGIN:VCALENDAR
VERSION:2.0
PRODID:-//DoingWell At MIT - ECPv6.15.20//NONSGML v1.0//EN
CALSCALE:GREGORIAN
METHOD:PUBLISH
X-ORIGINAL-URL:https://doingwell.mit.edu
X-WR-CALDESC:Events for DoingWell At MIT
REFRESH-INTERVAL;VALUE=DURATION:PT1H
X-Robots-Tag:noindex
X-PUBLISHED-TTL:PT1H
BEGIN:VTIMEZONE
TZID:America/New_York
BEGIN:DAYLIGHT
TZOFFSETFROM:-0500
TZOFFSETTO:-0400
TZNAME:EDT
DTSTART:20240310T070000
END:DAYLIGHT
BEGIN:STANDARD
TZOFFSETFROM:-0400
TZOFFSETTO:-0500
TZNAME:EST
DTSTART:20241103T060000
END:STANDARD
BEGIN:DAYLIGHT
TZOFFSETFROM:-0500
TZOFFSETTO:-0400
TZNAME:EDT
DTSTART:20250309T070000
END:DAYLIGHT
BEGIN:STANDARD
TZOFFSETFROM:-0400
TZOFFSETTO:-0500
TZNAME:EST
DTSTART:20251102T060000
END:STANDARD
BEGIN:DAYLIGHT
TZOFFSETFROM:-0500
TZOFFSETTO:-0400
TZNAME:EDT
DTSTART:20260308T070000
END:DAYLIGHT
BEGIN:STANDARD
TZOFFSETFROM:-0400
TZOFFSETTO:-0500
TZNAME:EST
DTSTART:20261101T060000
END:STANDARD
END:VTIMEZONE
BEGIN:VEVENT
DTSTART;TZID=America/New_York:20250215T120000
DTEND;TZID=America/New_York:20250215T133000
DTSTAMP:20260422T123636
CREATED:20250206T184848Z
LAST-MODIFIED:20250206T184851Z
UID:10004666-1739620800-1739626200@doingwell.mit.edu
SUMMARY:It's a Vibe Workshop Series: Building Resilient Communities: How LBGTQ+ Students Thrive Together at MIT
DESCRIPTION:Discover how LBGTQ+ students at MIT build resilience and thrive through strong\, supportive communities. Join LBGTQ+ Services in this interactive workshop centering storytelling\, discussions\, and actionable strategies to foster belonging and strengthen networks in personal\, academic\, and professional spaces.
URL:https://doingwell.mit.edu/event/its-a-vibe-workshop-series-building-resilient-communities-how-lbgtq-students-thrive-together-at-mit/
LOCATION:Rainbow Lounge 50-250\, 142 Memorial Drive\, Cambridge\, MA\, United States
ATTACH;FMTTYPE=image/png:https://doingwell.mit.edu/wp-content/uploads/2025/02/1-e1738867696757.png
END:VEVENT
END:VCALENDAR