BEGIN:VCALENDAR
VERSION:2.0
PRODID:-//DoingWell At MIT - ECPv6.15.20//NONSGML v1.0//EN
CALSCALE:GREGORIAN
METHOD:PUBLISH
X-ORIGINAL-URL:https://doingwell.mit.edu
X-WR-CALDESC:Events for DoingWell At MIT
REFRESH-INTERVAL;VALUE=DURATION:PT1H
X-Robots-Tag:noindex
X-PUBLISHED-TTL:PT1H
BEGIN:VTIMEZONE
TZID:America/New_York
BEGIN:DAYLIGHT
TZOFFSETFROM:-0500
TZOFFSETTO:-0400
TZNAME:EDT
DTSTART:20240310T070000
END:DAYLIGHT
BEGIN:STANDARD
TZOFFSETFROM:-0400
TZOFFSETTO:-0500
TZNAME:EST
DTSTART:20241103T060000
END:STANDARD
BEGIN:DAYLIGHT
TZOFFSETFROM:-0500
TZOFFSETTO:-0400
TZNAME:EDT
DTSTART:20250309T070000
END:DAYLIGHT
BEGIN:STANDARD
TZOFFSETFROM:-0400
TZOFFSETTO:-0500
TZNAME:EST
DTSTART:20251102T060000
END:STANDARD
BEGIN:DAYLIGHT
TZOFFSETFROM:-0500
TZOFFSETTO:-0400
TZNAME:EDT
DTSTART:20260308T070000
END:DAYLIGHT
BEGIN:STANDARD
TZOFFSETFROM:-0400
TZOFFSETTO:-0500
TZNAME:EST
DTSTART:20261101T060000
END:STANDARD
END:VTIMEZONE
BEGIN:VEVENT
DTSTART;TZID=America/New_York:20250214T120000
DTEND;TZID=America/New_York:20250214T130000
DTSTAMP:20260422T034655
CREATED:20250207T193725Z
LAST-MODIFIED:20250218T220029Z
UID:10004668-1739534400-1739538000@doingwell.mit.edu
SUMMARY:MIT Puppy Lab
DESCRIPTION:Join us every Friday in the Wellbeing Lab (3rd floor\, Stud) from 12-1pm for unconditional puppy love!
URL:https://doingwell.mit.edu/event/mit-puppy-lab/2025-02-14/
LOCATION:Wellbeing Lab
CATEGORIES:Wellbeing Lab
ATTACH;FMTTYPE=image/png:https://doingwell.mit.edu/wp-content/uploads/2025/02/Puppy-Lab-1-e1738956902188.png
END:VEVENT
BEGIN:VEVENT
DTSTART;TZID=America/New_York:20250214T120000
DTEND;TZID=America/New_York:20250214T140000
DTSTAMP:20260422T034655
CREATED:20250206T184446Z
LAST-MODIFIED:20250206T184449Z
UID:10004664-1739534400-1739541600@doingwell.mit.edu
SUMMARY:Happ-i.e. Valentine's Day from Intercultural Engagement (i.e.)
DESCRIPTION:Join Intercultural Engagement (i.e.) in lobby 10 on Valentine’s Day to pick up a special i.e. valentine or make your own to share with your best-i.e.\, favorite facult-i.e.\, or even your sweet-i.e.! Stop by for some treats and be entered to win some tech cash too! Open to all MIT students! We’ll be there until supplies last!
URL:https://doingwell.mit.edu/event/happ-i-e-valentines-day-from-intercultural-engagement-i-e/
LOCATION:Lobby 10\, 77 Massachusetts Ave\, Lobby 10\, Cambridge\, MA\, 02142\, United States
ATTACH;FMTTYPE=image/png:https://doingwell.mit.edu/wp-content/uploads/2025/02/Happ-i.e.-Valentines-Day-Facebook-Post.png
END:VEVENT
BEGIN:VEVENT
DTSTART;TZID=America/New_York:20250214T200000
DTEND;TZID=America/New_York:20250214T230000
DTSTAMP:20260422T034655
CREATED:20250210T191608Z
LAST-MODIFIED:20250210T191614Z
UID:10004682-1739563200-1739574000@doingwell.mit.edu
SUMMARY:The Eras Tour Movie Night
DESCRIPTION:Come join us for some sweet\, buttery popcorn and a screening of The Eras Tour!
URL:https://doingwell.mit.edu/event/the-eras-tour-movie-night/
LOCATION:Wellbeing Lab
CATEGORIES:Wellbeing Lab
ATTACH;FMTTYPE=image/png:https://doingwell.mit.edu/wp-content/uploads/2025/02/2-14.png
END:VEVENT
END:VCALENDAR