BEGIN:VCALENDAR
VERSION:2.0
PRODID:-//DoingWell At MIT - ECPv6.15.20//NONSGML v1.0//EN
CALSCALE:GREGORIAN
METHOD:PUBLISH
X-ORIGINAL-URL:https://doingwell.mit.edu
X-WR-CALDESC:Events for DoingWell At MIT
REFRESH-INTERVAL;VALUE=DURATION:PT1H
X-Robots-Tag:noindex
X-PUBLISHED-TTL:PT1H
BEGIN:VTIMEZONE
TZID:America/New_York
BEGIN:DAYLIGHT
TZOFFSETFROM:-0500
TZOFFSETTO:-0400
TZNAME:EDT
DTSTART:20230312T070000
END:DAYLIGHT
BEGIN:STANDARD
TZOFFSETFROM:-0400
TZOFFSETTO:-0500
TZNAME:EST
DTSTART:20231105T060000
END:STANDARD
BEGIN:DAYLIGHT
TZOFFSETFROM:-0500
TZOFFSETTO:-0400
TZNAME:EDT
DTSTART:20240310T070000
END:DAYLIGHT
BEGIN:STANDARD
TZOFFSETFROM:-0400
TZOFFSETTO:-0500
TZNAME:EST
DTSTART:20241103T060000
END:STANDARD
BEGIN:DAYLIGHT
TZOFFSETFROM:-0500
TZOFFSETTO:-0400
TZNAME:EDT
DTSTART:20250309T070000
END:DAYLIGHT
BEGIN:STANDARD
TZOFFSETFROM:-0400
TZOFFSETTO:-0500
TZNAME:EST
DTSTART:20251102T060000
END:STANDARD
END:VTIMEZONE
BEGIN:VEVENT
DTSTART;TZID=America/New_York:20241120T120000
DTEND;TZID=America/New_York:20241120T130000
DTSTAMP:20260425T153059
CREATED:20241029T203114Z
LAST-MODIFIED:20241029T203120Z
UID:10003886-1732104000-1732107600@doingwell.mit.edu
SUMMARY:Transgender Day of Remembrance
DESCRIPTION:Join LBGTQ+ Services and the Office of Religious\, Spiritual\, and Ethical Life (ORSEL) on November 20th as we gather for a solemn and reflective Trans Day of Remembrance. This annual observance honors the lives and memories of transgender individuals who have tragically lost their lives to acts of violence.\nThrough words\, reflection\, and community\, we will pay tribute to the resilience of the transgender community while also recognizing the ongoing struggles for justice and equality.\nThe event will be held in-person and live streamed to allow broader participation. Please fill out the form to RSVP\, and the link to the livestream will be shared on the day of the event.
URL:https://doingwell.mit.edu/event/transgender-day-of-remembrance-2/
LOCATION:MIT Chapel (W15)\, 48 Massachusetts Ave\, Cambridge\, MA 02139\, Cambridge\, Massachusetts\, 02139
ATTACH;FMTTYPE=image/png:https://doingwell.mit.edu/wp-content/uploads/2024/10/TDOR-2024-Email-Banner-2.png
END:VEVENT
END:VCALENDAR