BEGIN:VCALENDAR
VERSION:2.0
PRODID:-//DoingWell At MIT - ECPv6.15.20//NONSGML v1.0//EN
CALSCALE:GREGORIAN
METHOD:PUBLISH
X-WR-CALNAME:DoingWell At MIT
X-ORIGINAL-URL:https://doingwell.mit.edu
X-WR-CALDESC:Events for DoingWell At MIT
REFRESH-INTERVAL;VALUE=DURATION:PT1H
X-Robots-Tag:noindex
X-PUBLISHED-TTL:PT1H
BEGIN:VTIMEZONE
TZID:UTC
BEGIN:STANDARD
TZOFFSETFROM:+0000
TZOFFSETTO:+0000
TZNAME:UTC
DTSTART:20230101T000000
END:STANDARD
END:VTIMEZONE
BEGIN:VTIMEZONE
TZID:America/New_York
BEGIN:DAYLIGHT
TZOFFSETFROM:-0500
TZOFFSETTO:-0400
TZNAME:EDT
DTSTART:20230312T070000
END:DAYLIGHT
BEGIN:STANDARD
TZOFFSETFROM:-0400
TZOFFSETTO:-0500
TZNAME:EST
DTSTART:20231105T060000
END:STANDARD
BEGIN:DAYLIGHT
TZOFFSETFROM:-0500
TZOFFSETTO:-0400
TZNAME:EDT
DTSTART:20240310T070000
END:DAYLIGHT
BEGIN:STANDARD
TZOFFSETFROM:-0400
TZOFFSETTO:-0500
TZNAME:EST
DTSTART:20241103T060000
END:STANDARD
BEGIN:DAYLIGHT
TZOFFSETFROM:-0500
TZOFFSETTO:-0400
TZNAME:EDT
DTSTART:20250309T070000
END:DAYLIGHT
BEGIN:STANDARD
TZOFFSETFROM:-0400
TZOFFSETTO:-0500
TZNAME:EST
DTSTART:20251102T060000
END:STANDARD
END:VTIMEZONE
BEGIN:VEVENT
DTSTART;TZID=UTC:20240129T000000
DTEND;TZID=UTC:20240212T235959
DTSTAMP:20260423T212352
CREATED:20220207T193129Z
LAST-MODIFIED:20220207T193130Z
UID:10002991-1706486400-1707782399@doingwell.mit.edu
SUMMARY:Virtual 5K Run/Walk Training Program
DESCRIPTION:Does your exercise routine need a jump start? Join getfit and MIT Recreation for a virtual 5K run/walk training program open to the entire MIT community.\nWe have eight weeks of fun activities and challenges planned to get you ready to run or walk the virtual 5K. \nTraining starts on Tuesday\, February 22\, 2022 and the virtual 5K takes place April 11 – 24.
URL:https://doingwell.mit.edu/event/virtual-5k-run-walk-training-program/2024-01-29/
LOCATION:Massachusetts
ATTACH;FMTTYPE=image/png:https://doingwell.mit.edu/wp-content/uploads/2022/02/getfit-5K-IG.png
ORGANIZER;CN="MIT Health Community Wellness":MAILTO:wellness@med.mit.edu
END:VEVENT
BEGIN:VEVENT
DTSTART;TZID=UTC:20240130T000000
DTEND;TZID=UTC:20240213T235959
DTSTAMP:20260423T212352
CREATED:20220207T193129Z
LAST-MODIFIED:20220207T193130Z
UID:10002992-1706572800-1707868799@doingwell.mit.edu
SUMMARY:Virtual 5K Run/Walk Training Program
DESCRIPTION:Does your exercise routine need a jump start? Join getfit and MIT Recreation for a virtual 5K run/walk training program open to the entire MIT community.\nWe have eight weeks of fun activities and challenges planned to get you ready to run or walk the virtual 5K. \nTraining starts on Tuesday\, February 22\, 2022 and the virtual 5K takes place April 11 – 24.
URL:https://doingwell.mit.edu/event/virtual-5k-run-walk-training-program/2024-01-30/
LOCATION:Massachusetts
ATTACH;FMTTYPE=image/png:https://doingwell.mit.edu/wp-content/uploads/2022/02/getfit-5K-IG.png
ORGANIZER;CN="MIT Health Community Wellness":MAILTO:wellness@med.mit.edu
END:VEVENT
BEGIN:VEVENT
DTSTART;TZID=UTC:20240131T000000
DTEND;TZID=UTC:20240214T235959
DTSTAMP:20260423T212352
CREATED:20220207T193129Z
LAST-MODIFIED:20220207T193130Z
UID:10002993-1706659200-1707955199@doingwell.mit.edu
SUMMARY:Virtual 5K Run/Walk Training Program
DESCRIPTION:Does your exercise routine need a jump start? Join getfit and MIT Recreation for a virtual 5K run/walk training program open to the entire MIT community.\nWe have eight weeks of fun activities and challenges planned to get you ready to run or walk the virtual 5K. \nTraining starts on Tuesday\, February 22\, 2022 and the virtual 5K takes place April 11 – 24.
URL:https://doingwell.mit.edu/event/virtual-5k-run-walk-training-program/2024-01-31/
LOCATION:Massachusetts
ATTACH;FMTTYPE=image/png:https://doingwell.mit.edu/wp-content/uploads/2022/02/getfit-5K-IG.png
ORGANIZER;CN="MIT Health Community Wellness":MAILTO:wellness@med.mit.edu
END:VEVENT
BEGIN:VEVENT
DTSTART;TZID=UTC:20240201T000000
DTEND;TZID=UTC:20240215T235959
DTSTAMP:20260423T212352
CREATED:20220207T193129Z
LAST-MODIFIED:20220207T193130Z
UID:10002994-1706745600-1708041599@doingwell.mit.edu
SUMMARY:Virtual 5K Run/Walk Training Program
DESCRIPTION:Does your exercise routine need a jump start? Join getfit and MIT Recreation for a virtual 5K run/walk training program open to the entire MIT community.\nWe have eight weeks of fun activities and challenges planned to get you ready to run or walk the virtual 5K. \nTraining starts on Tuesday\, February 22\, 2022 and the virtual 5K takes place April 11 – 24.
URL:https://doingwell.mit.edu/event/virtual-5k-run-walk-training-program/2024-02-01/
LOCATION:Massachusetts
ATTACH;FMTTYPE=image/png:https://doingwell.mit.edu/wp-content/uploads/2022/02/getfit-5K-IG.png
ORGANIZER;CN="MIT Health Community Wellness":MAILTO:wellness@med.mit.edu
END:VEVENT
BEGIN:VEVENT
DTSTART;TZID=UTC:20240202T000000
DTEND;TZID=UTC:20240216T235959
DTSTAMP:20260423T212352
CREATED:20220207T193129Z
LAST-MODIFIED:20220207T193130Z
UID:10002995-1706832000-1708127999@doingwell.mit.edu
SUMMARY:Virtual 5K Run/Walk Training Program
DESCRIPTION:Does your exercise routine need a jump start? Join getfit and MIT Recreation for a virtual 5K run/walk training program open to the entire MIT community.\nWe have eight weeks of fun activities and challenges planned to get you ready to run or walk the virtual 5K. \nTraining starts on Tuesday\, February 22\, 2022 and the virtual 5K takes place April 11 – 24.
URL:https://doingwell.mit.edu/event/virtual-5k-run-walk-training-program/2024-02-02/
LOCATION:Massachusetts
ATTACH;FMTTYPE=image/png:https://doingwell.mit.edu/wp-content/uploads/2022/02/getfit-5K-IG.png
ORGANIZER;CN="MIT Health Community Wellness":MAILTO:wellness@med.mit.edu
END:VEVENT
BEGIN:VEVENT
DTSTART;TZID=UTC:20240203T000000
DTEND;TZID=UTC:20240217T235959
DTSTAMP:20260423T212352
CREATED:20220207T193129Z
LAST-MODIFIED:20220207T193130Z
UID:10002996-1706918400-1708214399@doingwell.mit.edu
SUMMARY:Virtual 5K Run/Walk Training Program
DESCRIPTION:Does your exercise routine need a jump start? Join getfit and MIT Recreation for a virtual 5K run/walk training program open to the entire MIT community.\nWe have eight weeks of fun activities and challenges planned to get you ready to run or walk the virtual 5K. \nTraining starts on Tuesday\, February 22\, 2022 and the virtual 5K takes place April 11 – 24.
URL:https://doingwell.mit.edu/event/virtual-5k-run-walk-training-program/2024-02-03/
LOCATION:Massachusetts
ATTACH;FMTTYPE=image/png:https://doingwell.mit.edu/wp-content/uploads/2022/02/getfit-5K-IG.png
ORGANIZER;CN="MIT Health Community Wellness":MAILTO:wellness@med.mit.edu
END:VEVENT
BEGIN:VEVENT
DTSTART;TZID=UTC:20240204T000000
DTEND;TZID=UTC:20240218T235959
DTSTAMP:20260423T212352
CREATED:20220207T193129Z
LAST-MODIFIED:20220207T193130Z
UID:10002997-1707004800-1708300799@doingwell.mit.edu
SUMMARY:Virtual 5K Run/Walk Training Program
DESCRIPTION:Does your exercise routine need a jump start? Join getfit and MIT Recreation for a virtual 5K run/walk training program open to the entire MIT community.\nWe have eight weeks of fun activities and challenges planned to get you ready to run or walk the virtual 5K. \nTraining starts on Tuesday\, February 22\, 2022 and the virtual 5K takes place April 11 – 24.
URL:https://doingwell.mit.edu/event/virtual-5k-run-walk-training-program/2024-02-04/
LOCATION:Massachusetts
ATTACH;FMTTYPE=image/png:https://doingwell.mit.edu/wp-content/uploads/2022/02/getfit-5K-IG.png
ORGANIZER;CN="MIT Health Community Wellness":MAILTO:wellness@med.mit.edu
END:VEVENT
BEGIN:VEVENT
DTSTART;TZID=UTC:20240205T000000
DTEND;TZID=UTC:20240219T235959
DTSTAMP:20260423T212352
CREATED:20220207T193129Z
LAST-MODIFIED:20220207T193130Z
UID:10002998-1707091200-1708387199@doingwell.mit.edu
SUMMARY:Virtual 5K Run/Walk Training Program
DESCRIPTION:Does your exercise routine need a jump start? Join getfit and MIT Recreation for a virtual 5K run/walk training program open to the entire MIT community.\nWe have eight weeks of fun activities and challenges planned to get you ready to run or walk the virtual 5K. \nTraining starts on Tuesday\, February 22\, 2022 and the virtual 5K takes place April 11 – 24.
URL:https://doingwell.mit.edu/event/virtual-5k-run-walk-training-program/2024-02-05/
LOCATION:Massachusetts
ATTACH;FMTTYPE=image/png:https://doingwell.mit.edu/wp-content/uploads/2022/02/getfit-5K-IG.png
ORGANIZER;CN="MIT Health Community Wellness":MAILTO:wellness@med.mit.edu
END:VEVENT
BEGIN:VEVENT
DTSTART;TZID=UTC:20240206T000000
DTEND;TZID=UTC:20240220T235959
DTSTAMP:20260423T212352
CREATED:20220207T193129Z
LAST-MODIFIED:20220207T193130Z
UID:10002999-1707177600-1708473599@doingwell.mit.edu
SUMMARY:Virtual 5K Run/Walk Training Program
DESCRIPTION:Does your exercise routine need a jump start? Join getfit and MIT Recreation for a virtual 5K run/walk training program open to the entire MIT community.\nWe have eight weeks of fun activities and challenges planned to get you ready to run or walk the virtual 5K. \nTraining starts on Tuesday\, February 22\, 2022 and the virtual 5K takes place April 11 – 24.
URL:https://doingwell.mit.edu/event/virtual-5k-run-walk-training-program/2024-02-06/
LOCATION:Massachusetts
ATTACH;FMTTYPE=image/png:https://doingwell.mit.edu/wp-content/uploads/2022/02/getfit-5K-IG.png
ORGANIZER;CN="MIT Health Community Wellness":MAILTO:wellness@med.mit.edu
END:VEVENT
BEGIN:VEVENT
DTSTART;TZID=UTC:20240207T000000
DTEND;TZID=UTC:20240221T235959
DTSTAMP:20260423T212352
CREATED:20220207T193129Z
LAST-MODIFIED:20220207T193130Z
UID:10003000-1707264000-1708559999@doingwell.mit.edu
SUMMARY:Virtual 5K Run/Walk Training Program
DESCRIPTION:Does your exercise routine need a jump start? Join getfit and MIT Recreation for a virtual 5K run/walk training program open to the entire MIT community.\nWe have eight weeks of fun activities and challenges planned to get you ready to run or walk the virtual 5K. \nTraining starts on Tuesday\, February 22\, 2022 and the virtual 5K takes place April 11 – 24.
URL:https://doingwell.mit.edu/event/virtual-5k-run-walk-training-program/2024-02-07/
LOCATION:Massachusetts
ATTACH;FMTTYPE=image/png:https://doingwell.mit.edu/wp-content/uploads/2022/02/getfit-5K-IG.png
ORGANIZER;CN="MIT Health Community Wellness":MAILTO:wellness@med.mit.edu
END:VEVENT
BEGIN:VEVENT
DTSTART;TZID=UTC:20240208T000000
DTEND;TZID=UTC:20240222T235959
DTSTAMP:20260423T212352
CREATED:20220207T193129Z
LAST-MODIFIED:20220207T193130Z
UID:10003001-1707350400-1708646399@doingwell.mit.edu
SUMMARY:Virtual 5K Run/Walk Training Program
DESCRIPTION:Does your exercise routine need a jump start? Join getfit and MIT Recreation for a virtual 5K run/walk training program open to the entire MIT community.\nWe have eight weeks of fun activities and challenges planned to get you ready to run or walk the virtual 5K. \nTraining starts on Tuesday\, February 22\, 2022 and the virtual 5K takes place April 11 – 24.
URL:https://doingwell.mit.edu/event/virtual-5k-run-walk-training-program/2024-02-08/
LOCATION:Massachusetts
ATTACH;FMTTYPE=image/png:https://doingwell.mit.edu/wp-content/uploads/2022/02/getfit-5K-IG.png
ORGANIZER;CN="MIT Health Community Wellness":MAILTO:wellness@med.mit.edu
END:VEVENT
BEGIN:VEVENT
DTSTART;TZID=UTC:20240209T000000
DTEND;TZID=UTC:20240223T235959
DTSTAMP:20260423T212352
CREATED:20220207T193129Z
LAST-MODIFIED:20220207T193130Z
UID:10003002-1707436800-1708732799@doingwell.mit.edu
SUMMARY:Virtual 5K Run/Walk Training Program
DESCRIPTION:Does your exercise routine need a jump start? Join getfit and MIT Recreation for a virtual 5K run/walk training program open to the entire MIT community.\nWe have eight weeks of fun activities and challenges planned to get you ready to run or walk the virtual 5K. \nTraining starts on Tuesday\, February 22\, 2022 and the virtual 5K takes place April 11 – 24.
URL:https://doingwell.mit.edu/event/virtual-5k-run-walk-training-program/2024-02-09/
LOCATION:Massachusetts
ATTACH;FMTTYPE=image/png:https://doingwell.mit.edu/wp-content/uploads/2022/02/getfit-5K-IG.png
ORGANIZER;CN="MIT Health Community Wellness":MAILTO:wellness@med.mit.edu
END:VEVENT
BEGIN:VEVENT
DTSTART;TZID=UTC:20240210T000000
DTEND;TZID=UTC:20240224T235959
DTSTAMP:20260423T212352
CREATED:20220207T193129Z
LAST-MODIFIED:20220207T193130Z
UID:10003003-1707523200-1708819199@doingwell.mit.edu
SUMMARY:Virtual 5K Run/Walk Training Program
DESCRIPTION:Does your exercise routine need a jump start? Join getfit and MIT Recreation for a virtual 5K run/walk training program open to the entire MIT community.\nWe have eight weeks of fun activities and challenges planned to get you ready to run or walk the virtual 5K. \nTraining starts on Tuesday\, February 22\, 2022 and the virtual 5K takes place April 11 – 24.
URL:https://doingwell.mit.edu/event/virtual-5k-run-walk-training-program/2024-02-10/
LOCATION:Massachusetts
ATTACH;FMTTYPE=image/png:https://doingwell.mit.edu/wp-content/uploads/2022/02/getfit-5K-IG.png
ORGANIZER;CN="MIT Health Community Wellness":MAILTO:wellness@med.mit.edu
END:VEVENT
BEGIN:VEVENT
DTSTART;TZID=UTC:20240211T000000
DTEND;TZID=UTC:20240225T235959
DTSTAMP:20260423T212352
CREATED:20220207T193129Z
LAST-MODIFIED:20220207T193130Z
UID:10003004-1707609600-1708905599@doingwell.mit.edu
SUMMARY:Virtual 5K Run/Walk Training Program
DESCRIPTION:Does your exercise routine need a jump start? Join getfit and MIT Recreation for a virtual 5K run/walk training program open to the entire MIT community.\nWe have eight weeks of fun activities and challenges planned to get you ready to run or walk the virtual 5K. \nTraining starts on Tuesday\, February 22\, 2022 and the virtual 5K takes place April 11 – 24.
URL:https://doingwell.mit.edu/event/virtual-5k-run-walk-training-program/2024-02-11/
LOCATION:Massachusetts
ATTACH;FMTTYPE=image/png:https://doingwell.mit.edu/wp-content/uploads/2022/02/getfit-5K-IG.png
ORGANIZER;CN="MIT Health Community Wellness":MAILTO:wellness@med.mit.edu
END:VEVENT
BEGIN:VEVENT
DTSTART;TZID=UTC:20240212T000000
DTEND;TZID=UTC:20240226T235959
DTSTAMP:20260423T212352
CREATED:20220207T193129Z
LAST-MODIFIED:20220207T193130Z
UID:10003005-1707696000-1708991999@doingwell.mit.edu
SUMMARY:Virtual 5K Run/Walk Training Program
DESCRIPTION:Does your exercise routine need a jump start? Join getfit and MIT Recreation for a virtual 5K run/walk training program open to the entire MIT community.\nWe have eight weeks of fun activities and challenges planned to get you ready to run or walk the virtual 5K. \nTraining starts on Tuesday\, February 22\, 2022 and the virtual 5K takes place April 11 – 24.
URL:https://doingwell.mit.edu/event/virtual-5k-run-walk-training-program/2024-02-12/
LOCATION:Massachusetts
ATTACH;FMTTYPE=image/png:https://doingwell.mit.edu/wp-content/uploads/2022/02/getfit-5K-IG.png
ORGANIZER;CN="MIT Health Community Wellness":MAILTO:wellness@med.mit.edu
END:VEVENT
BEGIN:VEVENT
DTSTART;TZID=America/New_York:20240212T071000
DTEND;TZID=America/New_York:20240212T074000
DTSTAMP:20260423T212352
CREATED:20240202T213632Z
LAST-MODIFIED:20240202T213633Z
UID:10003758-1707721800-1707723600@doingwell.mit.edu
SUMMARY:Tunnel Walk Sponsored by getfit
DESCRIPTION:Want to get exercise at the start of the day but don’t want to go outside? Join the tunnel walk for a 30-minute walk led by a volunteer through MIT’s famous tunnel system. This walk may include stairs/inclines. Wear comfortable shoes. Free.  \nLocation details: Meet in the atrium by the staircase.\nTunnel Walk Leaders will have a white flag they will raise at the meeting spot for you to find them. \nSpecial 20th Anniversary Prize Drawing: Attend a walk and scan a QR code from the walk leaders to be entered into a drawing for a getfit backpack at the end of the getfit challenge. The more walks you attend\, the more entries you get. Winner will be drawn and notified at the end of April. Winner does not need to be a getfit participant. \nDisclaimer: Tunnel walks are led by volunteers. In the rare occasion when a volunteer isn’t able to make it\, we will do our best to notify participants. In the event we are unable to notify participants and a walk leader does not show up\, we encourage you to walk as much as you feel comfortable doing so. We encourage you to check the website just before you head out!Getfit is a 12-week fitness challenge for the entire MIT community. These tunnel walks are open to the entire MIT community and you do not need to be a current getfit participant to join.
URL:https://doingwell.mit.edu/event/tunnel-walk-sponsored-by-getfit-34/
LOCATION:E25 Atrium\, 45 Carleton Street\, Cambridge\, MA\, 02139\, United States
ATTACH;FMTTYPE=image/png:https://doingwell.mit.edu/wp-content/uploads/2024/01/getfit-logo-new_two-color-alt-stacked-e1705679092531.png
ORGANIZER;CN="MIT Health Community Wellness":MAILTO:wellness@med.mit.edu
END:VEVENT
BEGIN:VEVENT
DTSTART;TZID=America/New_York:20240212T121000
DTEND;TZID=America/New_York:20240212T124000
DTSTAMP:20260423T212352
CREATED:20240202T213545Z
LAST-MODIFIED:20240202T213547Z
UID:10003757-1707739800-1707741600@doingwell.mit.edu
SUMMARY:Tunnel Walk Sponsored by getfit
DESCRIPTION:Want to get exercise mid-day but don’t want to go outside? Join the tunnel walk for a 30-minute walk led by a volunteer through MIT’s famous tunnel system. This walk may include stairs/inclines. Wear comfortable shoes. Free.  \nLocation details: Meet in the lobby with the big mirror\, right inside the Collier Memorial entrance to Stata. Location photo below.\nTunnel Walk Leaders will have a white flag they will raise at the meeting spot for you to find them. \nSpecial 20th Anniversary Prize Drawing: Attend a walk and scan a QR code from the walk leaders to be entered into a drawing for a getfit backpack at the end of the getfit challenge. The more walks you attend\, the more entries you get. Winner will be drawn and notified at the end of April. Winner does not need to be a getfit participant. \nDisclaimer: Tunnel walks are led by volunteers. In the rare occasion when a volunteer isn’t able to make it\, we will do our best to notify participants. In the event we are unable to notify participants and a walk leader does not show up\, we encourage you to walk as much as you feel comfortable doing so. We encourage you to check the website just before you head out!Getfit is a 12-week fitness challenge for the entire MIT community. These tunnel walks are open to the entire MIT community and you do not need to be a current getfit participant to join.
URL:https://doingwell.mit.edu/event/tunnel-walk-sponsored-by-getfit-33/
LOCATION:Stata\, 32 Vassar St\, CAMBRIDGE\, MA\, 02139\, United States
ATTACH;FMTTYPE=image/png:https://doingwell.mit.edu/wp-content/uploads/2024/01/getfit-logo-new_two-color-alt-stacked-e1705679092531.png
ORGANIZER;CN="MIT Health Community Wellness":MAILTO:wellness@med.mit.edu
END:VEVENT
BEGIN:VEVENT
DTSTART;TZID=America/New_York:20240212T131000
DTEND;TZID=America/New_York:20240212T134000
DTSTAMP:20260423T212352
CREATED:20240202T213708Z
LAST-MODIFIED:20240202T213713Z
UID:10003759-1707743400-1707745200@doingwell.mit.edu
SUMMARY:Tunnel Walk Sponsored by getfit
DESCRIPTION:Want to get exercise mid-day but don’t want to go outside? Join the tunnel walk for a 30-minute walk led by a volunteer through MIT’s famous tunnel system. This walk may include stairs/inclines. Wear comfortable shoes. Free.  \nLocation details: Meet in the lobby with the big mirror\, right inside the Collier Memorial entrance to Stata.\nTunnel Walk Leaders will have a white flag they will raise at the meeting spot for you to find them. \nSpecial 20th Anniversary Prize Drawing: Attend a walk and scan a QR code from the walk leaders to be entered into a drawing for a getfit backpack at the end of the getfit challenge. The more walks you attend\, the more entries you get. Winner will be drawn and notified at the end of April. Winner does not need to be a getfit participant. \nDisclaimer: Tunnel walks are led by volunteers. In the rare occasion when a volunteer isn’t able to make it\, we will do our best to notify participants. In the event we are unable to notify participants and a walk leader does not show up\, we encourage you to walk as much as you feel comfortable doing so. We encourage you to check the website just before you head out!Getfit is a 12-week fitness challenge for the entire MIT community. These tunnel walks are open to the entire MIT community and you do not need to be a current getfit participant to join.
URL:https://doingwell.mit.edu/event/tunnel-walk-sponsored-by-getfit-35/
LOCATION:Stata\, 32 Vassar St\, CAMBRIDGE\, MA\, 02139\, United States
ATTACH;FMTTYPE=image/png:https://doingwell.mit.edu/wp-content/uploads/2024/01/getfit-logo-new_two-color-alt-stacked-e1705679092531.png
ORGANIZER;CN="MIT Health Community Wellness":MAILTO:wellness@med.mit.edu
END:VEVENT
BEGIN:VEVENT
DTSTART;TZID=America/New_York:20240212T160000
DTEND;TZID=America/New_York:20240212T170000
DTSTAMP:20260423T212352
CREATED:20240125T212537Z
LAST-MODIFIED:20240129T000100Z
UID:10003746-1707753600-1707757200@doingwell.mit.edu
SUMMARY:Understanding Antisemitism: Enduring Hatred
DESCRIPTION:Pamela Nadell is the director of the Jewish Studies Program at American University. Her research focuses on American Jewish history and antisemitism in the United States. \nDialogues Across Difference focuses on modeling disagreement by elevating and encouraging dialogue.
URL:https://doingwell.mit.edu/event/understanding-antisemitism-enduring-hatred/
LOCATION:45-801\, 51 Vassar Street\, Cambridge\, Massachusetts\, 02139\, United States
ATTACH;FMTTYPE=image/jpeg:https://doingwell.mit.edu/wp-content/uploads/2024/01/pamela-picture.jpeg
END:VEVENT
END:VCALENDAR