BEGIN:VCALENDAR
VERSION:2.0
PRODID:-//DoingWell At MIT - ECPv6.15.20//NONSGML v1.0//EN
CALSCALE:GREGORIAN
METHOD:PUBLISH
X-ORIGINAL-URL:https://doingwell.mit.edu
X-WR-CALDESC:Events for DoingWell At MIT
REFRESH-INTERVAL;VALUE=DURATION:PT1H
X-Robots-Tag:noindex
X-PUBLISHED-TTL:PT1H
BEGIN:VTIMEZONE
TZID:UTC
BEGIN:STANDARD
TZOFFSETFROM:+0000
TZOFFSETTO:+0000
TZNAME:UTC
DTSTART:20220101T000000
END:STANDARD
END:VTIMEZONE
BEGIN:VTIMEZONE
TZID:America/New_York
BEGIN:DAYLIGHT
TZOFFSETFROM:-0500
TZOFFSETTO:-0400
TZNAME:EDT
DTSTART:20220313T070000
END:DAYLIGHT
BEGIN:STANDARD
TZOFFSETFROM:-0400
TZOFFSETTO:-0500
TZNAME:EST
DTSTART:20221106T060000
END:STANDARD
BEGIN:DAYLIGHT
TZOFFSETFROM:-0500
TZOFFSETTO:-0400
TZNAME:EDT
DTSTART:20230312T070000
END:DAYLIGHT
BEGIN:STANDARD
TZOFFSETFROM:-0400
TZOFFSETTO:-0500
TZNAME:EST
DTSTART:20231105T060000
END:STANDARD
BEGIN:DAYLIGHT
TZOFFSETFROM:-0500
TZOFFSETTO:-0400
TZNAME:EDT
DTSTART:20240310T070000
END:DAYLIGHT
BEGIN:STANDARD
TZOFFSETFROM:-0400
TZOFFSETTO:-0500
TZNAME:EST
DTSTART:20241103T060000
END:STANDARD
END:VTIMEZONE
BEGIN:VEVENT
DTSTART;TZID=UTC:20231202T000000
DTEND;TZID=UTC:20231216T235959
DTSTAMP:20260423T140550
CREATED:20220207T193129Z
LAST-MODIFIED:20220207T193130Z
UID:10002933-1701475200-1702771199@doingwell.mit.edu
SUMMARY:Virtual 5K Run/Walk Training Program
DESCRIPTION:Does your exercise routine need a jump start? Join getfit and MIT Recreation for a virtual 5K run/walk training program open to the entire MIT community.\nWe have eight weeks of fun activities and challenges planned to get you ready to run or walk the virtual 5K. \nTraining starts on Tuesday\, February 22\, 2022 and the virtual 5K takes place April 11 – 24.
URL:https://doingwell.mit.edu/event/virtual-5k-run-walk-training-program/2023-12-02/
LOCATION:Massachusetts
ATTACH;FMTTYPE=image/png:https://doingwell.mit.edu/wp-content/uploads/2022/02/getfit-5K-IG.png
ORGANIZER;CN="MIT Health Community Wellness":MAILTO:wellness@med.mit.edu
END:VEVENT
BEGIN:VEVENT
DTSTART;TZID=UTC:20231203T000000
DTEND;TZID=UTC:20231217T235959
DTSTAMP:20260423T140550
CREATED:20220207T193129Z
LAST-MODIFIED:20220207T193130Z
UID:10002934-1701561600-1702857599@doingwell.mit.edu
SUMMARY:Virtual 5K Run/Walk Training Program
DESCRIPTION:Does your exercise routine need a jump start? Join getfit and MIT Recreation for a virtual 5K run/walk training program open to the entire MIT community.\nWe have eight weeks of fun activities and challenges planned to get you ready to run or walk the virtual 5K. \nTraining starts on Tuesday\, February 22\, 2022 and the virtual 5K takes place April 11 – 24.
URL:https://doingwell.mit.edu/event/virtual-5k-run-walk-training-program/2023-12-03/
LOCATION:Massachusetts
ATTACH;FMTTYPE=image/png:https://doingwell.mit.edu/wp-content/uploads/2022/02/getfit-5K-IG.png
ORGANIZER;CN="MIT Health Community Wellness":MAILTO:wellness@med.mit.edu
END:VEVENT
BEGIN:VEVENT
DTSTART;TZID=UTC:20231204T000000
DTEND;TZID=UTC:20231218T235959
DTSTAMP:20260423T140550
CREATED:20220207T193129Z
LAST-MODIFIED:20220207T193130Z
UID:10002935-1701648000-1702943999@doingwell.mit.edu
SUMMARY:Virtual 5K Run/Walk Training Program
DESCRIPTION:Does your exercise routine need a jump start? Join getfit and MIT Recreation for a virtual 5K run/walk training program open to the entire MIT community.\nWe have eight weeks of fun activities and challenges planned to get you ready to run or walk the virtual 5K. \nTraining starts on Tuesday\, February 22\, 2022 and the virtual 5K takes place April 11 – 24.
URL:https://doingwell.mit.edu/event/virtual-5k-run-walk-training-program/2023-12-04/
LOCATION:Massachusetts
ATTACH;FMTTYPE=image/png:https://doingwell.mit.edu/wp-content/uploads/2022/02/getfit-5K-IG.png
ORGANIZER;CN="MIT Health Community Wellness":MAILTO:wellness@med.mit.edu
END:VEVENT
BEGIN:VEVENT
DTSTART;TZID=UTC:20231205T000000
DTEND;TZID=UTC:20231219T235959
DTSTAMP:20260423T140550
CREATED:20220207T193129Z
LAST-MODIFIED:20220207T193130Z
UID:10002936-1701734400-1703030399@doingwell.mit.edu
SUMMARY:Virtual 5K Run/Walk Training Program
DESCRIPTION:Does your exercise routine need a jump start? Join getfit and MIT Recreation for a virtual 5K run/walk training program open to the entire MIT community.\nWe have eight weeks of fun activities and challenges planned to get you ready to run or walk the virtual 5K. \nTraining starts on Tuesday\, February 22\, 2022 and the virtual 5K takes place April 11 – 24.
URL:https://doingwell.mit.edu/event/virtual-5k-run-walk-training-program/2023-12-05/
LOCATION:Massachusetts
ATTACH;FMTTYPE=image/png:https://doingwell.mit.edu/wp-content/uploads/2022/02/getfit-5K-IG.png
ORGANIZER;CN="MIT Health Community Wellness":MAILTO:wellness@med.mit.edu
END:VEVENT
BEGIN:VEVENT
DTSTART;TZID=UTC:20231206T000000
DTEND;TZID=UTC:20231220T235959
DTSTAMP:20260423T140550
CREATED:20220207T193129Z
LAST-MODIFIED:20220207T193130Z
UID:10002937-1701820800-1703116799@doingwell.mit.edu
SUMMARY:Virtual 5K Run/Walk Training Program
DESCRIPTION:Does your exercise routine need a jump start? Join getfit and MIT Recreation for a virtual 5K run/walk training program open to the entire MIT community.\nWe have eight weeks of fun activities and challenges planned to get you ready to run or walk the virtual 5K. \nTraining starts on Tuesday\, February 22\, 2022 and the virtual 5K takes place April 11 – 24.
URL:https://doingwell.mit.edu/event/virtual-5k-run-walk-training-program/2023-12-06/
LOCATION:Massachusetts
ATTACH;FMTTYPE=image/png:https://doingwell.mit.edu/wp-content/uploads/2022/02/getfit-5K-IG.png
ORGANIZER;CN="MIT Health Community Wellness":MAILTO:wellness@med.mit.edu
END:VEVENT
BEGIN:VEVENT
DTSTART;TZID=UTC:20231207T000000
DTEND;TZID=UTC:20231221T235959
DTSTAMP:20260423T140550
CREATED:20220207T193129Z
LAST-MODIFIED:20220207T193130Z
UID:10002938-1701907200-1703203199@doingwell.mit.edu
SUMMARY:Virtual 5K Run/Walk Training Program
DESCRIPTION:Does your exercise routine need a jump start? Join getfit and MIT Recreation for a virtual 5K run/walk training program open to the entire MIT community.\nWe have eight weeks of fun activities and challenges planned to get you ready to run or walk the virtual 5K. \nTraining starts on Tuesday\, February 22\, 2022 and the virtual 5K takes place April 11 – 24.
URL:https://doingwell.mit.edu/event/virtual-5k-run-walk-training-program/2023-12-07/
LOCATION:Massachusetts
ATTACH;FMTTYPE=image/png:https://doingwell.mit.edu/wp-content/uploads/2022/02/getfit-5K-IG.png
ORGANIZER;CN="MIT Health Community Wellness":MAILTO:wellness@med.mit.edu
END:VEVENT
BEGIN:VEVENT
DTSTART;TZID=UTC:20231208T000000
DTEND;TZID=UTC:20231222T235959
DTSTAMP:20260423T140550
CREATED:20220207T193129Z
LAST-MODIFIED:20220207T193130Z
UID:10002939-1701993600-1703289599@doingwell.mit.edu
SUMMARY:Virtual 5K Run/Walk Training Program
DESCRIPTION:Does your exercise routine need a jump start? Join getfit and MIT Recreation for a virtual 5K run/walk training program open to the entire MIT community.\nWe have eight weeks of fun activities and challenges planned to get you ready to run or walk the virtual 5K. \nTraining starts on Tuesday\, February 22\, 2022 and the virtual 5K takes place April 11 – 24.
URL:https://doingwell.mit.edu/event/virtual-5k-run-walk-training-program/2023-12-08/
LOCATION:Massachusetts
ATTACH;FMTTYPE=image/png:https://doingwell.mit.edu/wp-content/uploads/2022/02/getfit-5K-IG.png
ORGANIZER;CN="MIT Health Community Wellness":MAILTO:wellness@med.mit.edu
END:VEVENT
BEGIN:VEVENT
DTSTART;TZID=UTC:20231209T000000
DTEND;TZID=UTC:20231223T235959
DTSTAMP:20260423T140550
CREATED:20220207T193129Z
LAST-MODIFIED:20220207T193130Z
UID:10002940-1702080000-1703375999@doingwell.mit.edu
SUMMARY:Virtual 5K Run/Walk Training Program
DESCRIPTION:Does your exercise routine need a jump start? Join getfit and MIT Recreation for a virtual 5K run/walk training program open to the entire MIT community.\nWe have eight weeks of fun activities and challenges planned to get you ready to run or walk the virtual 5K. \nTraining starts on Tuesday\, February 22\, 2022 and the virtual 5K takes place April 11 – 24.
URL:https://doingwell.mit.edu/event/virtual-5k-run-walk-training-program/2023-12-09/
LOCATION:Massachusetts
ATTACH;FMTTYPE=image/png:https://doingwell.mit.edu/wp-content/uploads/2022/02/getfit-5K-IG.png
ORGANIZER;CN="MIT Health Community Wellness":MAILTO:wellness@med.mit.edu
END:VEVENT
BEGIN:VEVENT
DTSTART;TZID=UTC:20231210T000000
DTEND;TZID=UTC:20231224T235959
DTSTAMP:20260423T140550
CREATED:20220207T193129Z
LAST-MODIFIED:20220207T193130Z
UID:10002941-1702166400-1703462399@doingwell.mit.edu
SUMMARY:Virtual 5K Run/Walk Training Program
DESCRIPTION:Does your exercise routine need a jump start? Join getfit and MIT Recreation for a virtual 5K run/walk training program open to the entire MIT community.\nWe have eight weeks of fun activities and challenges planned to get you ready to run or walk the virtual 5K. \nTraining starts on Tuesday\, February 22\, 2022 and the virtual 5K takes place April 11 – 24.
URL:https://doingwell.mit.edu/event/virtual-5k-run-walk-training-program/2023-12-10/
LOCATION:Massachusetts
ATTACH;FMTTYPE=image/png:https://doingwell.mit.edu/wp-content/uploads/2022/02/getfit-5K-IG.png
ORGANIZER;CN="MIT Health Community Wellness":MAILTO:wellness@med.mit.edu
END:VEVENT
BEGIN:VEVENT
DTSTART;TZID=UTC:20231211T000000
DTEND;TZID=UTC:20231225T235959
DTSTAMP:20260423T140550
CREATED:20220207T193129Z
LAST-MODIFIED:20220207T193130Z
UID:10002942-1702252800-1703548799@doingwell.mit.edu
SUMMARY:Virtual 5K Run/Walk Training Program
DESCRIPTION:Does your exercise routine need a jump start? Join getfit and MIT Recreation for a virtual 5K run/walk training program open to the entire MIT community.\nWe have eight weeks of fun activities and challenges planned to get you ready to run or walk the virtual 5K. \nTraining starts on Tuesday\, February 22\, 2022 and the virtual 5K takes place April 11 – 24.
URL:https://doingwell.mit.edu/event/virtual-5k-run-walk-training-program/2023-12-11/
LOCATION:Massachusetts
ATTACH;FMTTYPE=image/png:https://doingwell.mit.edu/wp-content/uploads/2022/02/getfit-5K-IG.png
ORGANIZER;CN="MIT Health Community Wellness":MAILTO:wellness@med.mit.edu
END:VEVENT
BEGIN:VEVENT
DTSTART;TZID=UTC:20231212T000000
DTEND;TZID=UTC:20231226T235959
DTSTAMP:20260423T140550
CREATED:20220207T193129Z
LAST-MODIFIED:20220207T193130Z
UID:10002943-1702339200-1703635199@doingwell.mit.edu
SUMMARY:Virtual 5K Run/Walk Training Program
DESCRIPTION:Does your exercise routine need a jump start? Join getfit and MIT Recreation for a virtual 5K run/walk training program open to the entire MIT community.\nWe have eight weeks of fun activities and challenges planned to get you ready to run or walk the virtual 5K. \nTraining starts on Tuesday\, February 22\, 2022 and the virtual 5K takes place April 11 – 24.
URL:https://doingwell.mit.edu/event/virtual-5k-run-walk-training-program/2023-12-12/
LOCATION:Massachusetts
ATTACH;FMTTYPE=image/png:https://doingwell.mit.edu/wp-content/uploads/2022/02/getfit-5K-IG.png
ORGANIZER;CN="MIT Health Community Wellness":MAILTO:wellness@med.mit.edu
END:VEVENT
BEGIN:VEVENT
DTSTART;TZID=UTC:20231213T000000
DTEND;TZID=UTC:20231227T235959
DTSTAMP:20260423T140550
CREATED:20220207T193129Z
LAST-MODIFIED:20220207T193130Z
UID:10002944-1702425600-1703721599@doingwell.mit.edu
SUMMARY:Virtual 5K Run/Walk Training Program
DESCRIPTION:Does your exercise routine need a jump start? Join getfit and MIT Recreation for a virtual 5K run/walk training program open to the entire MIT community.\nWe have eight weeks of fun activities and challenges planned to get you ready to run or walk the virtual 5K. \nTraining starts on Tuesday\, February 22\, 2022 and the virtual 5K takes place April 11 – 24.
URL:https://doingwell.mit.edu/event/virtual-5k-run-walk-training-program/2023-12-13/
LOCATION:Massachusetts
ATTACH;FMTTYPE=image/png:https://doingwell.mit.edu/wp-content/uploads/2022/02/getfit-5K-IG.png
ORGANIZER;CN="MIT Health Community Wellness":MAILTO:wellness@med.mit.edu
END:VEVENT
BEGIN:VEVENT
DTSTART;TZID=UTC:20231214T000000
DTEND;TZID=UTC:20231228T235959
DTSTAMP:20260423T140550
CREATED:20220207T193129Z
LAST-MODIFIED:20220207T193130Z
UID:10002945-1702512000-1703807999@doingwell.mit.edu
SUMMARY:Virtual 5K Run/Walk Training Program
DESCRIPTION:Does your exercise routine need a jump start? Join getfit and MIT Recreation for a virtual 5K run/walk training program open to the entire MIT community.\nWe have eight weeks of fun activities and challenges planned to get you ready to run or walk the virtual 5K. \nTraining starts on Tuesday\, February 22\, 2022 and the virtual 5K takes place April 11 – 24.
URL:https://doingwell.mit.edu/event/virtual-5k-run-walk-training-program/2023-12-14/
LOCATION:Massachusetts
ATTACH;FMTTYPE=image/png:https://doingwell.mit.edu/wp-content/uploads/2022/02/getfit-5K-IG.png
ORGANIZER;CN="MIT Health Community Wellness":MAILTO:wellness@med.mit.edu
END:VEVENT
BEGIN:VEVENT
DTSTART;TZID=UTC:20231215T000000
DTEND;TZID=UTC:20231229T235959
DTSTAMP:20260423T140550
CREATED:20220207T193129Z
LAST-MODIFIED:20220207T193130Z
UID:10002946-1702598400-1703894399@doingwell.mit.edu
SUMMARY:Virtual 5K Run/Walk Training Program
DESCRIPTION:Does your exercise routine need a jump start? Join getfit and MIT Recreation for a virtual 5K run/walk training program open to the entire MIT community.\nWe have eight weeks of fun activities and challenges planned to get you ready to run or walk the virtual 5K. \nTraining starts on Tuesday\, February 22\, 2022 and the virtual 5K takes place April 11 – 24.
URL:https://doingwell.mit.edu/event/virtual-5k-run-walk-training-program/2023-12-15/
LOCATION:Massachusetts
ATTACH;FMTTYPE=image/png:https://doingwell.mit.edu/wp-content/uploads/2022/02/getfit-5K-IG.png
ORGANIZER;CN="MIT Health Community Wellness":MAILTO:wellness@med.mit.edu
END:VEVENT
BEGIN:VEVENT
DTSTART;TZID=UTC:20231216T000000
DTEND;TZID=UTC:20231230T235959
DTSTAMP:20260423T140550
CREATED:20220207T193129Z
LAST-MODIFIED:20220207T193130Z
UID:10002947-1702684800-1703980799@doingwell.mit.edu
SUMMARY:Virtual 5K Run/Walk Training Program
DESCRIPTION:Does your exercise routine need a jump start? Join getfit and MIT Recreation for a virtual 5K run/walk training program open to the entire MIT community.\nWe have eight weeks of fun activities and challenges planned to get you ready to run or walk the virtual 5K. \nTraining starts on Tuesday\, February 22\, 2022 and the virtual 5K takes place April 11 – 24.
URL:https://doingwell.mit.edu/event/virtual-5k-run-walk-training-program/2023-12-16/
LOCATION:Massachusetts
ATTACH;FMTTYPE=image/png:https://doingwell.mit.edu/wp-content/uploads/2022/02/getfit-5K-IG.png
ORGANIZER;CN="MIT Health Community Wellness":MAILTO:wellness@med.mit.edu
END:VEVENT
BEGIN:VEVENT
DTSTART;TZID=America/New_York:20231216T183000
DTEND;TZID=America/New_York:20231216T203000
DTSTAMP:20260423T140550
CREATED:20231207T211206Z
LAST-MODIFIED:20240207T225703Z
UID:10003251-1702751400-1702758600@doingwell.mit.edu
SUMMARY:Wellbeing Lab Jazz Night
DESCRIPTION:Take a moment for yourself to relax\, reflect\, and renew\,We’ll set the lights low and play some tunes\,so you can write what means most to you.Visit the cafe to grab a snack or drink\,and cozy up in your “bring your own” blanket.
URL:https://doingwell.mit.edu/event/wellbeing-lab-jazz-night/
LOCATION:Wellbeing Lab
CATEGORIES:Wellbeing Lab
ATTACH;FMTTYPE=image/jpeg:https://doingwell.mit.edu/wp-content/uploads/2023/12/Jazz-Night-e1701981107687.jpg
ORGANIZER;CN="Office of Student Wellbeing":MAILTO:wellbeing@mit.edu
END:VEVENT
END:VCALENDAR