BEGIN:VCALENDAR
VERSION:2.0
PRODID:-//DoingWell At MIT - ECPv6.15.20//NONSGML v1.0//EN
CALSCALE:GREGORIAN
METHOD:PUBLISH
X-WR-CALNAME:DoingWell At MIT
X-ORIGINAL-URL:https://doingwell.mit.edu
X-WR-CALDESC:Events for DoingWell At MIT
REFRESH-INTERVAL;VALUE=DURATION:PT1H
X-Robots-Tag:noindex
X-PUBLISHED-TTL:PT1H
BEGIN:VTIMEZONE
TZID:UTC
BEGIN:STANDARD
TZOFFSETFROM:+0000
TZOFFSETTO:+0000
TZNAME:UTC
DTSTART:20220101T000000
END:STANDARD
END:VTIMEZONE
BEGIN:VTIMEZONE
TZID:America/New_York
BEGIN:DAYLIGHT
TZOFFSETFROM:-0500
TZOFFSETTO:-0400
TZNAME:EDT
DTSTART:20220313T070000
END:DAYLIGHT
BEGIN:STANDARD
TZOFFSETFROM:-0400
TZOFFSETTO:-0500
TZNAME:EST
DTSTART:20221106T060000
END:STANDARD
BEGIN:DAYLIGHT
TZOFFSETFROM:-0500
TZOFFSETTO:-0400
TZNAME:EDT
DTSTART:20230312T070000
END:DAYLIGHT
BEGIN:STANDARD
TZOFFSETFROM:-0400
TZOFFSETTO:-0500
TZNAME:EST
DTSTART:20231105T060000
END:STANDARD
BEGIN:DAYLIGHT
TZOFFSETFROM:-0500
TZOFFSETTO:-0400
TZNAME:EDT
DTSTART:20240310T070000
END:DAYLIGHT
BEGIN:STANDARD
TZOFFSETFROM:-0400
TZOFFSETTO:-0500
TZNAME:EST
DTSTART:20241103T060000
END:STANDARD
END:VTIMEZONE
BEGIN:VEVENT
DTSTART;TZID=UTC:20230906T000000
DTEND;TZID=UTC:20230920T235959
DTSTAMP:20260423T155007
CREATED:20220207T193129Z
LAST-MODIFIED:20220207T193130Z
UID:10002846-1693958400-1695254399@doingwell.mit.edu
SUMMARY:Virtual 5K Run/Walk Training Program
DESCRIPTION:Does your exercise routine need a jump start? Join getfit and MIT Recreation for a virtual 5K run/walk training program open to the entire MIT community.\nWe have eight weeks of fun activities and challenges planned to get you ready to run or walk the virtual 5K. \nTraining starts on Tuesday\, February 22\, 2022 and the virtual 5K takes place April 11 – 24.
URL:https://doingwell.mit.edu/event/virtual-5k-run-walk-training-program/2023-09-06/
LOCATION:Massachusetts
ATTACH;FMTTYPE=image/png:https://doingwell.mit.edu/wp-content/uploads/2022/02/getfit-5K-IG.png
ORGANIZER;CN="MIT Health Community Wellness":MAILTO:wellness@med.mit.edu
END:VEVENT
BEGIN:VEVENT
DTSTART;TZID=UTC:20230907T000000
DTEND;TZID=UTC:20230921T235959
DTSTAMP:20260423T155007
CREATED:20220207T193129Z
LAST-MODIFIED:20220207T193130Z
UID:10002847-1694044800-1695340799@doingwell.mit.edu
SUMMARY:Virtual 5K Run/Walk Training Program
DESCRIPTION:Does your exercise routine need a jump start? Join getfit and MIT Recreation for a virtual 5K run/walk training program open to the entire MIT community.\nWe have eight weeks of fun activities and challenges planned to get you ready to run or walk the virtual 5K. \nTraining starts on Tuesday\, February 22\, 2022 and the virtual 5K takes place April 11 – 24.
URL:https://doingwell.mit.edu/event/virtual-5k-run-walk-training-program/2023-09-07/
LOCATION:Massachusetts
ATTACH;FMTTYPE=image/png:https://doingwell.mit.edu/wp-content/uploads/2022/02/getfit-5K-IG.png
ORGANIZER;CN="MIT Health Community Wellness":MAILTO:wellness@med.mit.edu
END:VEVENT
BEGIN:VEVENT
DTSTART;TZID=UTC:20230908T000000
DTEND;TZID=UTC:20230922T235959
DTSTAMP:20260423T155007
CREATED:20220207T193129Z
LAST-MODIFIED:20220207T193130Z
UID:10002848-1694131200-1695427199@doingwell.mit.edu
SUMMARY:Virtual 5K Run/Walk Training Program
DESCRIPTION:Does your exercise routine need a jump start? Join getfit and MIT Recreation for a virtual 5K run/walk training program open to the entire MIT community.\nWe have eight weeks of fun activities and challenges planned to get you ready to run or walk the virtual 5K. \nTraining starts on Tuesday\, February 22\, 2022 and the virtual 5K takes place April 11 – 24.
URL:https://doingwell.mit.edu/event/virtual-5k-run-walk-training-program/2023-09-08/
LOCATION:Massachusetts
ATTACH;FMTTYPE=image/png:https://doingwell.mit.edu/wp-content/uploads/2022/02/getfit-5K-IG.png
ORGANIZER;CN="MIT Health Community Wellness":MAILTO:wellness@med.mit.edu
END:VEVENT
BEGIN:VEVENT
DTSTART;TZID=UTC:20230909T000000
DTEND;TZID=UTC:20230923T235959
DTSTAMP:20260423T155007
CREATED:20220207T193129Z
LAST-MODIFIED:20220207T193130Z
UID:10002849-1694217600-1695513599@doingwell.mit.edu
SUMMARY:Virtual 5K Run/Walk Training Program
DESCRIPTION:Does your exercise routine need a jump start? Join getfit and MIT Recreation for a virtual 5K run/walk training program open to the entire MIT community.\nWe have eight weeks of fun activities and challenges planned to get you ready to run or walk the virtual 5K. \nTraining starts on Tuesday\, February 22\, 2022 and the virtual 5K takes place April 11 – 24.
URL:https://doingwell.mit.edu/event/virtual-5k-run-walk-training-program/2023-09-09/
LOCATION:Massachusetts
ATTACH;FMTTYPE=image/png:https://doingwell.mit.edu/wp-content/uploads/2022/02/getfit-5K-IG.png
ORGANIZER;CN="MIT Health Community Wellness":MAILTO:wellness@med.mit.edu
END:VEVENT
BEGIN:VEVENT
DTSTART;TZID=UTC:20230910T000000
DTEND;TZID=UTC:20230924T235959
DTSTAMP:20260423T155007
CREATED:20220207T193129Z
LAST-MODIFIED:20220207T193130Z
UID:10002850-1694304000-1695599999@doingwell.mit.edu
SUMMARY:Virtual 5K Run/Walk Training Program
DESCRIPTION:Does your exercise routine need a jump start? Join getfit and MIT Recreation for a virtual 5K run/walk training program open to the entire MIT community.\nWe have eight weeks of fun activities and challenges planned to get you ready to run or walk the virtual 5K. \nTraining starts on Tuesday\, February 22\, 2022 and the virtual 5K takes place April 11 – 24.
URL:https://doingwell.mit.edu/event/virtual-5k-run-walk-training-program/2023-09-10/
LOCATION:Massachusetts
ATTACH;FMTTYPE=image/png:https://doingwell.mit.edu/wp-content/uploads/2022/02/getfit-5K-IG.png
ORGANIZER;CN="MIT Health Community Wellness":MAILTO:wellness@med.mit.edu
END:VEVENT
BEGIN:VEVENT
DTSTART;TZID=UTC:20230911T000000
DTEND;TZID=UTC:20230925T235959
DTSTAMP:20260423T155007
CREATED:20220207T193129Z
LAST-MODIFIED:20220207T193130Z
UID:10002851-1694390400-1695686399@doingwell.mit.edu
SUMMARY:Virtual 5K Run/Walk Training Program
DESCRIPTION:Does your exercise routine need a jump start? Join getfit and MIT Recreation for a virtual 5K run/walk training program open to the entire MIT community.\nWe have eight weeks of fun activities and challenges planned to get you ready to run or walk the virtual 5K. \nTraining starts on Tuesday\, February 22\, 2022 and the virtual 5K takes place April 11 – 24.
URL:https://doingwell.mit.edu/event/virtual-5k-run-walk-training-program/2023-09-11/
LOCATION:Massachusetts
ATTACH;FMTTYPE=image/png:https://doingwell.mit.edu/wp-content/uploads/2022/02/getfit-5K-IG.png
ORGANIZER;CN="MIT Health Community Wellness":MAILTO:wellness@med.mit.edu
END:VEVENT
BEGIN:VEVENT
DTSTART;TZID=UTC:20230912T000000
DTEND;TZID=UTC:20230926T235959
DTSTAMP:20260423T155007
CREATED:20220207T193129Z
LAST-MODIFIED:20220207T193130Z
UID:10002852-1694476800-1695772799@doingwell.mit.edu
SUMMARY:Virtual 5K Run/Walk Training Program
DESCRIPTION:Does your exercise routine need a jump start? Join getfit and MIT Recreation for a virtual 5K run/walk training program open to the entire MIT community.\nWe have eight weeks of fun activities and challenges planned to get you ready to run or walk the virtual 5K. \nTraining starts on Tuesday\, February 22\, 2022 and the virtual 5K takes place April 11 – 24.
URL:https://doingwell.mit.edu/event/virtual-5k-run-walk-training-program/2023-09-12/
LOCATION:Massachusetts
ATTACH;FMTTYPE=image/png:https://doingwell.mit.edu/wp-content/uploads/2022/02/getfit-5K-IG.png
ORGANIZER;CN="MIT Health Community Wellness":MAILTO:wellness@med.mit.edu
END:VEVENT
BEGIN:VEVENT
DTSTART;TZID=UTC:20230913T000000
DTEND;TZID=UTC:20230927T235959
DTSTAMP:20260423T155007
CREATED:20220207T193129Z
LAST-MODIFIED:20220207T193130Z
UID:10002853-1694563200-1695859199@doingwell.mit.edu
SUMMARY:Virtual 5K Run/Walk Training Program
DESCRIPTION:Does your exercise routine need a jump start? Join getfit and MIT Recreation for a virtual 5K run/walk training program open to the entire MIT community.\nWe have eight weeks of fun activities and challenges planned to get you ready to run or walk the virtual 5K. \nTraining starts on Tuesday\, February 22\, 2022 and the virtual 5K takes place April 11 – 24.
URL:https://doingwell.mit.edu/event/virtual-5k-run-walk-training-program/2023-09-13/
LOCATION:Massachusetts
ATTACH;FMTTYPE=image/png:https://doingwell.mit.edu/wp-content/uploads/2022/02/getfit-5K-IG.png
ORGANIZER;CN="MIT Health Community Wellness":MAILTO:wellness@med.mit.edu
END:VEVENT
BEGIN:VEVENT
DTSTART;TZID=UTC:20230914T000000
DTEND;TZID=UTC:20230928T235959
DTSTAMP:20260423T155007
CREATED:20220207T193129Z
LAST-MODIFIED:20220207T193130Z
UID:10002854-1694649600-1695945599@doingwell.mit.edu
SUMMARY:Virtual 5K Run/Walk Training Program
DESCRIPTION:Does your exercise routine need a jump start? Join getfit and MIT Recreation for a virtual 5K run/walk training program open to the entire MIT community.\nWe have eight weeks of fun activities and challenges planned to get you ready to run or walk the virtual 5K. \nTraining starts on Tuesday\, February 22\, 2022 and the virtual 5K takes place April 11 – 24.
URL:https://doingwell.mit.edu/event/virtual-5k-run-walk-training-program/2023-09-14/
LOCATION:Massachusetts
ATTACH;FMTTYPE=image/png:https://doingwell.mit.edu/wp-content/uploads/2022/02/getfit-5K-IG.png
ORGANIZER;CN="MIT Health Community Wellness":MAILTO:wellness@med.mit.edu
END:VEVENT
BEGIN:VEVENT
DTSTART;TZID=UTC:20230915T000000
DTEND;TZID=UTC:20230929T235959
DTSTAMP:20260423T155007
CREATED:20220207T193129Z
LAST-MODIFIED:20220207T193130Z
UID:10002855-1694736000-1696031999@doingwell.mit.edu
SUMMARY:Virtual 5K Run/Walk Training Program
DESCRIPTION:Does your exercise routine need a jump start? Join getfit and MIT Recreation for a virtual 5K run/walk training program open to the entire MIT community.\nWe have eight weeks of fun activities and challenges planned to get you ready to run or walk the virtual 5K. \nTraining starts on Tuesday\, February 22\, 2022 and the virtual 5K takes place April 11 – 24.
URL:https://doingwell.mit.edu/event/virtual-5k-run-walk-training-program/2023-09-15/
LOCATION:Massachusetts
ATTACH;FMTTYPE=image/png:https://doingwell.mit.edu/wp-content/uploads/2022/02/getfit-5K-IG.png
ORGANIZER;CN="MIT Health Community Wellness":MAILTO:wellness@med.mit.edu
END:VEVENT
BEGIN:VEVENT
DTSTART;TZID=UTC:20230916T000000
DTEND;TZID=UTC:20230930T235959
DTSTAMP:20260423T155007
CREATED:20220207T193129Z
LAST-MODIFIED:20220207T193130Z
UID:10002856-1694822400-1696118399@doingwell.mit.edu
SUMMARY:Virtual 5K Run/Walk Training Program
DESCRIPTION:Does your exercise routine need a jump start? Join getfit and MIT Recreation for a virtual 5K run/walk training program open to the entire MIT community.\nWe have eight weeks of fun activities and challenges planned to get you ready to run or walk the virtual 5K. \nTraining starts on Tuesday\, February 22\, 2022 and the virtual 5K takes place April 11 – 24.
URL:https://doingwell.mit.edu/event/virtual-5k-run-walk-training-program/2023-09-16/
LOCATION:Massachusetts
ATTACH;FMTTYPE=image/png:https://doingwell.mit.edu/wp-content/uploads/2022/02/getfit-5K-IG.png
ORGANIZER;CN="MIT Health Community Wellness":MAILTO:wellness@med.mit.edu
END:VEVENT
BEGIN:VEVENT
DTSTART;TZID=UTC:20230917T000000
DTEND;TZID=UTC:20231001T235959
DTSTAMP:20260423T155007
CREATED:20220207T193129Z
LAST-MODIFIED:20220207T193130Z
UID:10002857-1694908800-1696204799@doingwell.mit.edu
SUMMARY:Virtual 5K Run/Walk Training Program
DESCRIPTION:Does your exercise routine need a jump start? Join getfit and MIT Recreation for a virtual 5K run/walk training program open to the entire MIT community.\nWe have eight weeks of fun activities and challenges planned to get you ready to run or walk the virtual 5K. \nTraining starts on Tuesday\, February 22\, 2022 and the virtual 5K takes place April 11 – 24.
URL:https://doingwell.mit.edu/event/virtual-5k-run-walk-training-program/2023-09-17/
LOCATION:Massachusetts
ATTACH;FMTTYPE=image/png:https://doingwell.mit.edu/wp-content/uploads/2022/02/getfit-5K-IG.png
ORGANIZER;CN="MIT Health Community Wellness":MAILTO:wellness@med.mit.edu
END:VEVENT
BEGIN:VEVENT
DTSTART;TZID=America/New_York:20230918T000000
DTEND;TZID=America/New_York:20231001T235959
DTSTAMP:20260423T155007
CREATED:20230915T201139Z
LAST-MODIFIED:20230915T201142Z
UID:10003711-1694995200-1696204799@doingwell.mit.edu
SUMMARY:Step Your Way Registration Period
DESCRIPTION:Registration for Step Your Way is now open! \nNeed some motivation to get and stay active this fall? Join the MIT community for this 6-week walking challenge that starts on Monday\, October 2. \nLearn more and sign up through our website.\n•The goal of the challenge is to help you increase your daily physical activity.\n•Sign up\, participate\, and you just might win one of 20 getfit backpacks!\n•After you have registered\, join our Slack channel and/or private Facebook group where you can get support\, share encouragement\, and celebrate your achievements.\n•Register by Sunday\, October 1. \nFor more information\, including a list of free\, step-counting apps for your smartphone\, visit our website: getfit.mit.edu/steps   \nAny questions can be sent to getfit@med.mit.edu.
URL:https://doingwell.mit.edu/event/step-your-way-registration-period-2/2023-09-18/
LOCATION:Massachusetts
ATTACH;FMTTYPE=image/png:https://doingwell.mit.edu/wp-content/uploads/2023/09/SYW-Fall-2023-Instagram.png
ORGANIZER;CN="MIT Health Community Wellness":MAILTO:wellness@med.mit.edu
END:VEVENT
BEGIN:VEVENT
DTSTART;TZID=UTC:20230918T000000
DTEND;TZID=UTC:20231002T235959
DTSTAMP:20260423T155007
CREATED:20220207T193129Z
LAST-MODIFIED:20220207T193130Z
UID:10002858-1694995200-1696291199@doingwell.mit.edu
SUMMARY:Virtual 5K Run/Walk Training Program
DESCRIPTION:Does your exercise routine need a jump start? Join getfit and MIT Recreation for a virtual 5K run/walk training program open to the entire MIT community.\nWe have eight weeks of fun activities and challenges planned to get you ready to run or walk the virtual 5K. \nTraining starts on Tuesday\, February 22\, 2022 and the virtual 5K takes place April 11 – 24.
URL:https://doingwell.mit.edu/event/virtual-5k-run-walk-training-program/2023-09-18/
LOCATION:Massachusetts
ATTACH;FMTTYPE=image/png:https://doingwell.mit.edu/wp-content/uploads/2022/02/getfit-5K-IG.png
ORGANIZER;CN="MIT Health Community Wellness":MAILTO:wellness@med.mit.edu
END:VEVENT
BEGIN:VEVENT
DTSTART;TZID=America/New_York:20230919T000000
DTEND;TZID=America/New_York:20231002T235959
DTSTAMP:20260423T155007
CREATED:20230915T201139Z
LAST-MODIFIED:20230915T201142Z
UID:10003712-1695081600-1696291199@doingwell.mit.edu
SUMMARY:Step Your Way Registration Period
DESCRIPTION:Registration for Step Your Way is now open! \nNeed some motivation to get and stay active this fall? Join the MIT community for this 6-week walking challenge that starts on Monday\, October 2. \nLearn more and sign up through our website.\n•The goal of the challenge is to help you increase your daily physical activity.\n•Sign up\, participate\, and you just might win one of 20 getfit backpacks!\n•After you have registered\, join our Slack channel and/or private Facebook group where you can get support\, share encouragement\, and celebrate your achievements.\n•Register by Sunday\, October 1. \nFor more information\, including a list of free\, step-counting apps for your smartphone\, visit our website: getfit.mit.edu/steps   \nAny questions can be sent to getfit@med.mit.edu.
URL:https://doingwell.mit.edu/event/step-your-way-registration-period-2/2023-09-19/
LOCATION:Massachusetts
ATTACH;FMTTYPE=image/png:https://doingwell.mit.edu/wp-content/uploads/2023/09/SYW-Fall-2023-Instagram.png
ORGANIZER;CN="MIT Health Community Wellness":MAILTO:wellness@med.mit.edu
END:VEVENT
BEGIN:VEVENT
DTSTART;TZID=UTC:20230919T000000
DTEND;TZID=UTC:20231003T235959
DTSTAMP:20260423T155007
CREATED:20220207T193129Z
LAST-MODIFIED:20220207T193130Z
UID:10002859-1695081600-1696377599@doingwell.mit.edu
SUMMARY:Virtual 5K Run/Walk Training Program
DESCRIPTION:Does your exercise routine need a jump start? Join getfit and MIT Recreation for a virtual 5K run/walk training program open to the entire MIT community.\nWe have eight weeks of fun activities and challenges planned to get you ready to run or walk the virtual 5K. \nTraining starts on Tuesday\, February 22\, 2022 and the virtual 5K takes place April 11 – 24.
URL:https://doingwell.mit.edu/event/virtual-5k-run-walk-training-program/2023-09-19/
LOCATION:Massachusetts
ATTACH;FMTTYPE=image/png:https://doingwell.mit.edu/wp-content/uploads/2022/02/getfit-5K-IG.png
ORGANIZER;CN="MIT Health Community Wellness":MAILTO:wellness@med.mit.edu
END:VEVENT
BEGIN:VEVENT
DTSTART;TZID=America/New_York:20230920T000000
DTEND;TZID=America/New_York:20231003T235959
DTSTAMP:20260423T155007
CREATED:20230915T201139Z
LAST-MODIFIED:20230915T201142Z
UID:10003713-1695168000-1696377599@doingwell.mit.edu
SUMMARY:Step Your Way Registration Period
DESCRIPTION:Registration for Step Your Way is now open! \nNeed some motivation to get and stay active this fall? Join the MIT community for this 6-week walking challenge that starts on Monday\, October 2. \nLearn more and sign up through our website.\n•The goal of the challenge is to help you increase your daily physical activity.\n•Sign up\, participate\, and you just might win one of 20 getfit backpacks!\n•After you have registered\, join our Slack channel and/or private Facebook group where you can get support\, share encouragement\, and celebrate your achievements.\n•Register by Sunday\, October 1. \nFor more information\, including a list of free\, step-counting apps for your smartphone\, visit our website: getfit.mit.edu/steps   \nAny questions can be sent to getfit@med.mit.edu.
URL:https://doingwell.mit.edu/event/step-your-way-registration-period-2/2023-09-20/
LOCATION:Massachusetts
ATTACH;FMTTYPE=image/png:https://doingwell.mit.edu/wp-content/uploads/2023/09/SYW-Fall-2023-Instagram.png
ORGANIZER;CN="MIT Health Community Wellness":MAILTO:wellness@med.mit.edu
END:VEVENT
BEGIN:VEVENT
DTSTART;TZID=UTC:20230920T000000
DTEND;TZID=UTC:20231004T235959
DTSTAMP:20260423T155007
CREATED:20220207T193129Z
LAST-MODIFIED:20220207T193130Z
UID:10002860-1695168000-1696463999@doingwell.mit.edu
SUMMARY:Virtual 5K Run/Walk Training Program
DESCRIPTION:Does your exercise routine need a jump start? Join getfit and MIT Recreation for a virtual 5K run/walk training program open to the entire MIT community.\nWe have eight weeks of fun activities and challenges planned to get you ready to run or walk the virtual 5K. \nTraining starts on Tuesday\, February 22\, 2022 and the virtual 5K takes place April 11 – 24.
URL:https://doingwell.mit.edu/event/virtual-5k-run-walk-training-program/2023-09-20/
LOCATION:Massachusetts
ATTACH;FMTTYPE=image/png:https://doingwell.mit.edu/wp-content/uploads/2022/02/getfit-5K-IG.png
ORGANIZER;CN="MIT Health Community Wellness":MAILTO:wellness@med.mit.edu
END:VEVENT
END:VCALENDAR