BEGIN:VCALENDAR
VERSION:2.0
PRODID:-//DoingWell At MIT - ECPv6.15.20//NONSGML v1.0//EN
CALSCALE:GREGORIAN
METHOD:PUBLISH
X-WR-CALNAME:DoingWell At MIT
X-ORIGINAL-URL:https://doingwell.mit.edu
X-WR-CALDESC:Events for DoingWell At MIT
REFRESH-INTERVAL;VALUE=DURATION:PT1H
X-Robots-Tag:noindex
X-PUBLISHED-TTL:PT1H
BEGIN:VTIMEZONE
TZID:UTC
BEGIN:STANDARD
TZOFFSETFROM:+0000
TZOFFSETTO:+0000
TZNAME:UTC
DTSTART:20220101T000000
END:STANDARD
END:VTIMEZONE
BEGIN:VEVENT
DTSTART;TZID=UTC:20230813T000000
DTEND;TZID=UTC:20230827T235959
DTSTAMP:20260422T172850
CREATED:20220207T193129Z
LAST-MODIFIED:20220207T193130Z
UID:10002822-1691884800-1693180799@doingwell.mit.edu
SUMMARY:Virtual 5K Run/Walk Training Program
DESCRIPTION:Does your exercise routine need a jump start? Join getfit and MIT Recreation for a virtual 5K run/walk training program open to the entire MIT community.\nWe have eight weeks of fun activities and challenges planned to get you ready to run or walk the virtual 5K. \nTraining starts on Tuesday\, February 22\, 2022 and the virtual 5K takes place April 11 – 24.
URL:https://doingwell.mit.edu/event/virtual-5k-run-walk-training-program/2023-08-13/
LOCATION:Massachusetts
ATTACH;FMTTYPE=image/png:https://doingwell.mit.edu/wp-content/uploads/2022/02/getfit-5K-IG.png
ORGANIZER;CN="MIT Health Community Wellness":MAILTO:wellness@med.mit.edu
END:VEVENT
BEGIN:VEVENT
DTSTART;TZID=UTC:20230814T000000
DTEND;TZID=UTC:20230828T235959
DTSTAMP:20260422T172850
CREATED:20220207T193129Z
LAST-MODIFIED:20220207T193130Z
UID:10002823-1691971200-1693267199@doingwell.mit.edu
SUMMARY:Virtual 5K Run/Walk Training Program
DESCRIPTION:Does your exercise routine need a jump start? Join getfit and MIT Recreation for a virtual 5K run/walk training program open to the entire MIT community.\nWe have eight weeks of fun activities and challenges planned to get you ready to run or walk the virtual 5K. \nTraining starts on Tuesday\, February 22\, 2022 and the virtual 5K takes place April 11 – 24.
URL:https://doingwell.mit.edu/event/virtual-5k-run-walk-training-program/2023-08-14/
LOCATION:Massachusetts
ATTACH;FMTTYPE=image/png:https://doingwell.mit.edu/wp-content/uploads/2022/02/getfit-5K-IG.png
ORGANIZER;CN="MIT Health Community Wellness":MAILTO:wellness@med.mit.edu
END:VEVENT
BEGIN:VEVENT
DTSTART;TZID=UTC:20230815T000000
DTEND;TZID=UTC:20230829T235959
DTSTAMP:20260422T172850
CREATED:20220207T193129Z
LAST-MODIFIED:20220207T193130Z
UID:10002824-1692057600-1693353599@doingwell.mit.edu
SUMMARY:Virtual 5K Run/Walk Training Program
DESCRIPTION:Does your exercise routine need a jump start? Join getfit and MIT Recreation for a virtual 5K run/walk training program open to the entire MIT community.\nWe have eight weeks of fun activities and challenges planned to get you ready to run or walk the virtual 5K. \nTraining starts on Tuesday\, February 22\, 2022 and the virtual 5K takes place April 11 – 24.
URL:https://doingwell.mit.edu/event/virtual-5k-run-walk-training-program/2023-08-15/
LOCATION:Massachusetts
ATTACH;FMTTYPE=image/png:https://doingwell.mit.edu/wp-content/uploads/2022/02/getfit-5K-IG.png
ORGANIZER;CN="MIT Health Community Wellness":MAILTO:wellness@med.mit.edu
END:VEVENT
BEGIN:VEVENT
DTSTART;TZID=UTC:20230816T000000
DTEND;TZID=UTC:20230830T235959
DTSTAMP:20260422T172850
CREATED:20220207T193129Z
LAST-MODIFIED:20220207T193130Z
UID:10002825-1692144000-1693439999@doingwell.mit.edu
SUMMARY:Virtual 5K Run/Walk Training Program
DESCRIPTION:Does your exercise routine need a jump start? Join getfit and MIT Recreation for a virtual 5K run/walk training program open to the entire MIT community.\nWe have eight weeks of fun activities and challenges planned to get you ready to run or walk the virtual 5K. \nTraining starts on Tuesday\, February 22\, 2022 and the virtual 5K takes place April 11 – 24.
URL:https://doingwell.mit.edu/event/virtual-5k-run-walk-training-program/2023-08-16/
LOCATION:Massachusetts
ATTACH;FMTTYPE=image/png:https://doingwell.mit.edu/wp-content/uploads/2022/02/getfit-5K-IG.png
ORGANIZER;CN="MIT Health Community Wellness":MAILTO:wellness@med.mit.edu
END:VEVENT
BEGIN:VEVENT
DTSTART;TZID=UTC:20230817T000000
DTEND;TZID=UTC:20230831T235959
DTSTAMP:20260422T172850
CREATED:20220207T193129Z
LAST-MODIFIED:20220207T193130Z
UID:10002826-1692230400-1693526399@doingwell.mit.edu
SUMMARY:Virtual 5K Run/Walk Training Program
DESCRIPTION:Does your exercise routine need a jump start? Join getfit and MIT Recreation for a virtual 5K run/walk training program open to the entire MIT community.\nWe have eight weeks of fun activities and challenges planned to get you ready to run or walk the virtual 5K. \nTraining starts on Tuesday\, February 22\, 2022 and the virtual 5K takes place April 11 – 24.
URL:https://doingwell.mit.edu/event/virtual-5k-run-walk-training-program/2023-08-17/
LOCATION:Massachusetts
ATTACH;FMTTYPE=image/png:https://doingwell.mit.edu/wp-content/uploads/2022/02/getfit-5K-IG.png
ORGANIZER;CN="MIT Health Community Wellness":MAILTO:wellness@med.mit.edu
END:VEVENT
BEGIN:VEVENT
DTSTART;TZID=UTC:20230818T000000
DTEND;TZID=UTC:20230901T235959
DTSTAMP:20260422T172850
CREATED:20220207T193129Z
LAST-MODIFIED:20220207T193130Z
UID:10002827-1692316800-1693612799@doingwell.mit.edu
SUMMARY:Virtual 5K Run/Walk Training Program
DESCRIPTION:Does your exercise routine need a jump start? Join getfit and MIT Recreation for a virtual 5K run/walk training program open to the entire MIT community.\nWe have eight weeks of fun activities and challenges planned to get you ready to run or walk the virtual 5K. \nTraining starts on Tuesday\, February 22\, 2022 and the virtual 5K takes place April 11 – 24.
URL:https://doingwell.mit.edu/event/virtual-5k-run-walk-training-program/2023-08-18/
LOCATION:Massachusetts
ATTACH;FMTTYPE=image/png:https://doingwell.mit.edu/wp-content/uploads/2022/02/getfit-5K-IG.png
ORGANIZER;CN="MIT Health Community Wellness":MAILTO:wellness@med.mit.edu
END:VEVENT
BEGIN:VEVENT
DTSTART;TZID=UTC:20230819T000000
DTEND;TZID=UTC:20230902T235959
DTSTAMP:20260422T172850
CREATED:20220207T193129Z
LAST-MODIFIED:20220207T193130Z
UID:10002828-1692403200-1693699199@doingwell.mit.edu
SUMMARY:Virtual 5K Run/Walk Training Program
DESCRIPTION:Does your exercise routine need a jump start? Join getfit and MIT Recreation for a virtual 5K run/walk training program open to the entire MIT community.\nWe have eight weeks of fun activities and challenges planned to get you ready to run or walk the virtual 5K. \nTraining starts on Tuesday\, February 22\, 2022 and the virtual 5K takes place April 11 – 24.
URL:https://doingwell.mit.edu/event/virtual-5k-run-walk-training-program/2023-08-19/
LOCATION:Massachusetts
ATTACH;FMTTYPE=image/png:https://doingwell.mit.edu/wp-content/uploads/2022/02/getfit-5K-IG.png
ORGANIZER;CN="MIT Health Community Wellness":MAILTO:wellness@med.mit.edu
END:VEVENT
BEGIN:VEVENT
DTSTART;TZID=UTC:20230820T000000
DTEND;TZID=UTC:20230903T235959
DTSTAMP:20260422T172850
CREATED:20220207T193129Z
LAST-MODIFIED:20220207T193130Z
UID:10002829-1692489600-1693785599@doingwell.mit.edu
SUMMARY:Virtual 5K Run/Walk Training Program
DESCRIPTION:Does your exercise routine need a jump start? Join getfit and MIT Recreation for a virtual 5K run/walk training program open to the entire MIT community.\nWe have eight weeks of fun activities and challenges planned to get you ready to run or walk the virtual 5K. \nTraining starts on Tuesday\, February 22\, 2022 and the virtual 5K takes place April 11 – 24.
URL:https://doingwell.mit.edu/event/virtual-5k-run-walk-training-program/2023-08-20/
LOCATION:Massachusetts
ATTACH;FMTTYPE=image/png:https://doingwell.mit.edu/wp-content/uploads/2022/02/getfit-5K-IG.png
ORGANIZER;CN="MIT Health Community Wellness":MAILTO:wellness@med.mit.edu
END:VEVENT
BEGIN:VEVENT
DTSTART;TZID=UTC:20230821T000000
DTEND;TZID=UTC:20230904T235959
DTSTAMP:20260422T172850
CREATED:20220207T193129Z
LAST-MODIFIED:20220207T193130Z
UID:10002830-1692576000-1693871999@doingwell.mit.edu
SUMMARY:Virtual 5K Run/Walk Training Program
DESCRIPTION:Does your exercise routine need a jump start? Join getfit and MIT Recreation for a virtual 5K run/walk training program open to the entire MIT community.\nWe have eight weeks of fun activities and challenges planned to get you ready to run or walk the virtual 5K. \nTraining starts on Tuesday\, February 22\, 2022 and the virtual 5K takes place April 11 – 24.
URL:https://doingwell.mit.edu/event/virtual-5k-run-walk-training-program/2023-08-21/
LOCATION:Massachusetts
ATTACH;FMTTYPE=image/png:https://doingwell.mit.edu/wp-content/uploads/2022/02/getfit-5K-IG.png
ORGANIZER;CN="MIT Health Community Wellness":MAILTO:wellness@med.mit.edu
END:VEVENT
BEGIN:VEVENT
DTSTART;TZID=UTC:20230822T000000
DTEND;TZID=UTC:20230905T235959
DTSTAMP:20260422T172850
CREATED:20220207T193129Z
LAST-MODIFIED:20220207T193130Z
UID:10002831-1692662400-1693958399@doingwell.mit.edu
SUMMARY:Virtual 5K Run/Walk Training Program
DESCRIPTION:Does your exercise routine need a jump start? Join getfit and MIT Recreation for a virtual 5K run/walk training program open to the entire MIT community.\nWe have eight weeks of fun activities and challenges planned to get you ready to run or walk the virtual 5K. \nTraining starts on Tuesday\, February 22\, 2022 and the virtual 5K takes place April 11 – 24.
URL:https://doingwell.mit.edu/event/virtual-5k-run-walk-training-program/2023-08-22/
LOCATION:Massachusetts
ATTACH;FMTTYPE=image/png:https://doingwell.mit.edu/wp-content/uploads/2022/02/getfit-5K-IG.png
ORGANIZER;CN="MIT Health Community Wellness":MAILTO:wellness@med.mit.edu
END:VEVENT
BEGIN:VEVENT
DTSTART;TZID=UTC:20230823T000000
DTEND;TZID=UTC:20230906T235959
DTSTAMP:20260422T172850
CREATED:20220207T193129Z
LAST-MODIFIED:20220207T193130Z
UID:10002832-1692748800-1694044799@doingwell.mit.edu
SUMMARY:Virtual 5K Run/Walk Training Program
DESCRIPTION:Does your exercise routine need a jump start? Join getfit and MIT Recreation for a virtual 5K run/walk training program open to the entire MIT community.\nWe have eight weeks of fun activities and challenges planned to get you ready to run or walk the virtual 5K. \nTraining starts on Tuesday\, February 22\, 2022 and the virtual 5K takes place April 11 – 24.
URL:https://doingwell.mit.edu/event/virtual-5k-run-walk-training-program/2023-08-23/
LOCATION:Massachusetts
ATTACH;FMTTYPE=image/png:https://doingwell.mit.edu/wp-content/uploads/2022/02/getfit-5K-IG.png
ORGANIZER;CN="MIT Health Community Wellness":MAILTO:wellness@med.mit.edu
END:VEVENT
BEGIN:VEVENT
DTSTART;TZID=UTC:20230824T000000
DTEND;TZID=UTC:20230907T235959
DTSTAMP:20260422T172850
CREATED:20220207T193129Z
LAST-MODIFIED:20220207T193130Z
UID:10002833-1692835200-1694131199@doingwell.mit.edu
SUMMARY:Virtual 5K Run/Walk Training Program
DESCRIPTION:Does your exercise routine need a jump start? Join getfit and MIT Recreation for a virtual 5K run/walk training program open to the entire MIT community.\nWe have eight weeks of fun activities and challenges planned to get you ready to run or walk the virtual 5K. \nTraining starts on Tuesday\, February 22\, 2022 and the virtual 5K takes place April 11 – 24.
URL:https://doingwell.mit.edu/event/virtual-5k-run-walk-training-program/2023-08-24/
LOCATION:Massachusetts
ATTACH;FMTTYPE=image/png:https://doingwell.mit.edu/wp-content/uploads/2022/02/getfit-5K-IG.png
ORGANIZER;CN="MIT Health Community Wellness":MAILTO:wellness@med.mit.edu
END:VEVENT
BEGIN:VEVENT
DTSTART;TZID=UTC:20230825T000000
DTEND;TZID=UTC:20230908T235959
DTSTAMP:20260422T172850
CREATED:20220207T193129Z
LAST-MODIFIED:20220207T193130Z
UID:10002834-1692921600-1694217599@doingwell.mit.edu
SUMMARY:Virtual 5K Run/Walk Training Program
DESCRIPTION:Does your exercise routine need a jump start? Join getfit and MIT Recreation for a virtual 5K run/walk training program open to the entire MIT community.\nWe have eight weeks of fun activities and challenges planned to get you ready to run or walk the virtual 5K. \nTraining starts on Tuesday\, February 22\, 2022 and the virtual 5K takes place April 11 – 24.
URL:https://doingwell.mit.edu/event/virtual-5k-run-walk-training-program/2023-08-25/
LOCATION:Massachusetts
ATTACH;FMTTYPE=image/png:https://doingwell.mit.edu/wp-content/uploads/2022/02/getfit-5K-IG.png
ORGANIZER;CN="MIT Health Community Wellness":MAILTO:wellness@med.mit.edu
END:VEVENT
BEGIN:VEVENT
DTSTART;TZID=UTC:20230826T000000
DTEND;TZID=UTC:20230909T235959
DTSTAMP:20260422T172850
CREATED:20220207T193129Z
LAST-MODIFIED:20220207T193130Z
UID:10002835-1693008000-1694303999@doingwell.mit.edu
SUMMARY:Virtual 5K Run/Walk Training Program
DESCRIPTION:Does your exercise routine need a jump start? Join getfit and MIT Recreation for a virtual 5K run/walk training program open to the entire MIT community.\nWe have eight weeks of fun activities and challenges planned to get you ready to run or walk the virtual 5K. \nTraining starts on Tuesday\, February 22\, 2022 and the virtual 5K takes place April 11 – 24.
URL:https://doingwell.mit.edu/event/virtual-5k-run-walk-training-program/2023-08-26/
LOCATION:Massachusetts
ATTACH;FMTTYPE=image/png:https://doingwell.mit.edu/wp-content/uploads/2022/02/getfit-5K-IG.png
ORGANIZER;CN="MIT Health Community Wellness":MAILTO:wellness@med.mit.edu
END:VEVENT
BEGIN:VEVENT
DTSTART;TZID=UTC:20230827T000000
DTEND;TZID=UTC:20230910T235959
DTSTAMP:20260422T172850
CREATED:20220207T193129Z
LAST-MODIFIED:20220207T193130Z
UID:10002836-1693094400-1694390399@doingwell.mit.edu
SUMMARY:Virtual 5K Run/Walk Training Program
DESCRIPTION:Does your exercise routine need a jump start? Join getfit and MIT Recreation for a virtual 5K run/walk training program open to the entire MIT community.\nWe have eight weeks of fun activities and challenges planned to get you ready to run or walk the virtual 5K. \nTraining starts on Tuesday\, February 22\, 2022 and the virtual 5K takes place April 11 – 24.
URL:https://doingwell.mit.edu/event/virtual-5k-run-walk-training-program/2023-08-27/
LOCATION:Massachusetts
ATTACH;FMTTYPE=image/png:https://doingwell.mit.edu/wp-content/uploads/2022/02/getfit-5K-IG.png
ORGANIZER;CN="MIT Health Community Wellness":MAILTO:wellness@med.mit.edu
END:VEVENT
END:VCALENDAR